BEGIN:VCALENDAR
VERSION:2.0
PRODID:-//ChamberMaster//Event Calendar 2.0//EN
METHOD:PUBLISH
X-PUBLISHED-TTL:P3D
REFRESH-INTERVAL:P3D
CALSCALE:GREGORIAN
BEGIN:VEVENT
DTSTART:20250605T223000Z
DTEND:20250605T230000Z
X-MICROSOFT-CDO-ALLDAYEVENT:FALSE
SUMMARY:Ribbon Cutting - ELIVATE Drip Spa
DESCRIPTION:The Rio Grande Valley Hispanic Chamber of Commerce invites you to the Grand Opening & Ribbon Cutting of ELIVATE Drip Spa
X-ALT-DESC;FMTTYPE=text/html:<div class="kvgmc6g5 cxmmr5t8 oygrvhab hcukyx3x c1et5uql" style="overflow-wrap: break-word\; margin: 0px\;">\n<p data-end="409" data-start="159" style="">The Rio Grande Valley Hispanic Chamber of Commerce invites you to the Grand Opening &amp\; Ribbon Cutting of ELIVATE Drip Spa</p>\n</div>\n
LOCATION:1121 W Interstate Hwy 2 Suite J\, Weslaco\, TX 78596
UID:e.3411.978
SEQUENCE:3
DTSTAMP:20260422T143643Z
URL:https://members.rgvhcc.org/events/details/ribbon-cutting-elivate-drip-spa-978
END:VEVENT

END:VCALENDAR
