BEGIN:VCALENDAR
VERSION:2.0
PRODID:-//ChamberMaster//Event Calendar 2.0//EN
METHOD:PUBLISH
X-PUBLISHED-TTL:P3D
REFRESH-INTERVAL:P3D
CALSCALE:GREGORIAN
BEGIN:VEVENT
DTSTART:20251212T160000Z
DTEND:20251212T170000Z
X-MICROSOFT-CDO-ALLDAYEVENT:FALSE
SUMMARY:Ribbon Cutting - Food Bank RGV's Cooler Facility (Pharr)
DESCRIPTION:The Rio Grande Valley Hispanic Chamber of Commerce is proud to celebrate a major milestone for one of our region's strongest community pillars   the Food Bank of the Rio Grande Valley!\n\n\n\nI'm Armando with the RGV Hispanic Chamber\, and I invite you to join us for a special ribbon cutting as the Food Bank RGV unveils its brand-new cooler and freezer facility this Friday in Pharr.\n\n\n\nThis expanded cold-storage space\, located behind the historic Valley Fruit Company building\, marks a transformative step in the Food Bank's mission. With greater capacity to safely store fresh produce\, dairy\, and proteins\, the Food Bank RGV can now support even more families across Hidalgo\, Cameron\, and Willacy counties\, while helping partner agencies maintain steady inventory year-round.\n\n\n\nA stronger facility means a stronger community   and this achievement reflects the dedication of an organization committed to fighting hunger across the Valley.\n\n\n\nLet's come together to celebrate this important investment in food security and the well-being of our region.\n\n\n\nFollow them here: https://www.facebook.com/FoodBankRGV/
X-ALT-DESC;FMTTYPE=text/html:<span style="font-size:14px\;"><span style="font-family:arial\;">The Rio Grande Valley Hispanic Chamber of Commerce is proud to celebrate a major milestone for one of our region&rsquo\;s strongest community pillars &mdash\; the Food Bank of the Rio Grande Valley!<br />\n<br />\nI&rsquo\;m Armando with the RGV Hispanic Chamber\, and I invite you to join us for a special ribbon cutting as the Food Bank RGV unveils its brand-new cooler and freezer facility this Friday in Pharr.<br />\n<br />\nThis expanded cold-storage space\, located behind the historic Valley Fruit Company building\, marks a transformative step in the Food Bank&rsquo\;s mission. With greater capacity to safely store fresh produce\, dairy\, and proteins\, the Food Bank RGV can now support even more families across Hidalgo\, Cameron\, and Willacy counties\, while helping partner agencies maintain steady inventory year-round.<br />\n<br />\nA stronger facility means a stronger community &mdash\; and this achievement reflects the dedication of an organization committed to fighting hunger across the Valley.<br />\n<br />\nLet&rsquo\;s come together to celebrate this important investment in food security and the well-being of our region.<br />\n<br />\nFollow them here: https://www.facebook.com/FoodBankRGV/</span></span>
LOCATION:
UID:e.3411.1104
SEQUENCE:3
DTSTAMP:20260422T050459Z
URL:https://members.rgvhcc.org/events/details/ribbon-cutting-food-bank-rgv-s-cooler-facility-pharr-1104
END:VEVENT

END:VCALENDAR
