BEGIN:VCALENDAR
VERSION:2.0
PRODID:-//ChamberMaster//Event Calendar 2.0//EN
METHOD:PUBLISH
X-PUBLISHED-TTL:P3D
REFRESH-INTERVAL:P3D
CALSCALE:GREGORIAN
BEGIN:VEVENT
DTSTART:20251212T160000Z
DTEND:20251212T170000Z
X-MICROSOFT-CDO-ALLDAYEVENT:FALSE
SUMMARY:Ribbon Cutting - Food Bank RGV's New Cooler and Freezer Facility
DESCRIPTION:The Food Bank of the Rio Grande Valley will celebrate the completion of its new cooler and freezer facility with a ribbon cutting on Friday\, December 12\, 2025\, at 10 a.m.\n\nThe new cold-storage facility is located on-site behind the Food Bank RGV's historic Valley Fruit Company building. The Food Bank RGV is located at 724 N. Cage Blvd. in Pharr\, Texas.\n\nThe completion of this project marks a major step forward in expanding the Food Bank's capacity to safely store and distribute a greater variety of fresh produce\, dairy\, and proteins to families across Hidalgo\, Cameron\, and Willacy counties. The added space will also help maintain steadier inventory levels for partner agencies throughout the year.
X-ALT-DESC;FMTTYPE=text/html:<p style="box-sizing: border-box\; margin: 0px auto 26px\; overflow-wrap: break-word\; font-family: &quot\;Open Sans&quot\;\; font-size: 16px\; letter-spacing: -0.1px\; color: rgb(34\, 34\, 34)\;"><span style="font-size:14px\;"><span style="font-family:arial\;">The Food Bank of the Rio Grande Valley will celebrate the completion of its new cooler and freezer facility with a ribbon cutting on Friday\, December 12\, 2025\, at 10 a.m.</span></span></p>\n\n<p style="box-sizing: border-box\; margin: 0px auto 26px\; overflow-wrap: break-word\; font-family: &quot\;Open Sans&quot\;\; font-size: 16px\; letter-spacing: -0.1px\; color: rgb(34\, 34\, 34)\;"><span style="font-size:14px\;"><span style="font-family:arial\;">The new cold-storage facility is located on-site behind the Food Bank RGV&rsquo\;s historic Valley Fruit Company building. The Food Bank RGV is located at 724 N. Cage Blvd. in Pharr\, Texas.</span></span></p>\n\n<p style="box-sizing: border-box\; margin: 0px auto 26px\; overflow-wrap: break-word\; font-family: &quot\;Open Sans&quot\;\; font-size: 16px\; letter-spacing: -0.1px\; color: rgb(34\, 34\, 34)\;"><span style="font-size:14px\;"><span style="font-family:arial\;">The completion of this project marks a major step forward in expanding the Food Bank&rsquo\;s capacity to safely store and distribute a greater variety of fresh produce\, dairy\, and proteins to families across Hidalgo\, Cameron\, and Willacy counties. The added space will also help maintain steadier inventory levels for partner agencies throughout the year.</span></span></p>\n
LOCATION:
UID:e.3411.1101
SEQUENCE:3
DTSTAMP:20260422T064148Z
URL:https://members.rgvhcc.org/events/details/ribbon-cutting-food-bank-rgv-s-new-cooler-and-freezer-facility-1101
END:VEVENT

END:VCALENDAR
