BEGIN:VCALENDAR
VERSION:2.0
PRODID:-//ChamberMaster//Event Calendar 2.0//EN
METHOD:PUBLISH
X-PUBLISHED-TTL:P3D
REFRESH-INTERVAL:P3D
CALSCALE:GREGORIAN
BEGIN:VEVENT
DTSTART:20250314T220000Z
DTEND:20250314T230000Z
X-MICROSOFT-CDO-ALLDAYEVENT:FALSE
SUMMARY:Ribbon Cutting - Fresh Coat Painters
DESCRIPTION:The Rio Grande Valley Hispanic Chamber of Commerce invites you to the Grand Opening & Ribbon Cutting of Ferdinando Esquivel's Fresh Coat Painters in Pharr!
X-ALT-DESC;FMTTYPE=text/html:<div class="kvgmc6g5 cxmmr5t8 oygrvhab hcukyx3x c1et5uql" style="overflow-wrap: break-word\; margin: 0px\;">\n<p data-end="409" data-start="159" style=""><span style="color: rgb(0\, 0\, 0)\; font-family: -apple-system\, BlinkMacSystemFont\, &quot\;Segoe UI&quot\;\, Roboto\, Helvetica\, Arial\, sans-serif\; font-size: 14px\;">The Rio Grande Valley Hispanic Chamber of Commerce invites you to the Grand Opening &amp\; Ribbon Cutting of&nbsp\;</span><font color="#050505" face="system-ui\, -apple-system\, system-ui\, .SFNSText-Regular\, sans-serif"><span style="font-size: 15px\;">Ferdinando Esquivel&#39\;s&nbsp\;Fresh Coat Painters&nbsp\;</span></font><font color="#000000" face="-apple-system\, BlinkMacSystemFont\, Segoe UI\, Roboto\, Helvetica\, Arial\, sans-serif"><span style="font-size: 14px\;">in Pharr!</span></font></p>\n</div>\n
LOCATION:
UID:e.3411.933
SEQUENCE:3
DTSTAMP:20260422T194811Z
URL:https://members.rgvhcc.org/events/details/ribbon-cutting-fresh-coat-painters-933
END:VEVENT

END:VCALENDAR
