BEGIN:VCALENDAR
VERSION:2.0
PRODID:-//ChamberMaster//Event Calendar 2.0//EN
METHOD:PUBLISH
X-PUBLISHED-TTL:P3D
REFRESH-INTERVAL:P3D
CALSCALE:GREGORIAN
BEGIN:VEVENT
DTSTART:20240618T160000Z
DTEND:20240618T190000Z
X-MICROSOFT-CDO-ALLDAYEVENT:FALSE
SUMMARY:Ribbon Cutting - Hide & Seek Storage
DESCRIPTION:
X-ALT-DESC;FMTTYPE=text/html:
LOCATION:Hide & Seek Storage Units Off of 23rd St. (Depot Rd.) & Mile 17 1/2 (Russel Rd.)
UID:e.3411.781
SEQUENCE:3
DTSTAMP:20260424T024828Z
URL:https://members.rgvhcc.org/events/details/ribbon-cutting-hide-seek-storage-781
END:VEVENT

END:VCALENDAR
