BEGIN:VCALENDAR
VERSION:2.0
PRODID:-//ChamberMaster//Event Calendar 2.0//EN
METHOD:PUBLISH
X-PUBLISHED-TTL:P3D
REFRESH-INTERVAL:P3D
CALSCALE:GREGORIAN
BEGIN:VEVENT
DTSTART:20250404T203000Z
DTEND:20250404T213000Z
X-MICROSOFT-CDO-ALLDAYEVENT:FALSE
SUMMARY:Ribbon Cutting - Integrity Auto Repair (McAllenTX)
DESCRIPTION:Join us for the grand opening of Integrity Auto Repair\, where your peace of mind comes first!
X-ALT-DESC;FMTTYPE=text/html:<span style="font-size:14px\;"><span style="color: rgb(8\, 8\, 9)\; font-family: &quot\;Segoe UI Historic&quot\;\, &quot\;Segoe UI&quot\;\, Helvetica\, Arial\, sans-serif\; white-space-collapse: preserve\;">Join us for the grand opening of </span><span class="html-span xdj266r x11i5rnm xat24cr x1mh8g0r xexx8yu x4uap5 x18d9i69 xkhd6sd x1hl2dhg x16tdsg8 x1vvkbs" style="margin: 0px\; overflow-wrap: break-word\; padding: 0px\; font-family: &quot\;Segoe UI Historic&quot\;\, &quot\;Segoe UI&quot\;\, Helvetica\, Arial\, sans-serif\; color: rgb(8\, 8\, 9)\; white-space-collapse: preserve\;"><a attributionsrc="/privacy_sandbox/comet/register/source/?xt=AZUoFLkJYz7SVQigYMI0DWV0ZcM21IQhnWSVld19PLVu1SwCYHDSXHtTikGtvjHMo6yKaDWWk9ABBcLhbm_yAHU0DHh0O5aBL_RJPBIu5R-12TopMfymy5UPsdthKfpIubWzd1RIBcjMwZ6GWzI-vpNdZeluTHf8WxvQ9ZhGqh5a4sCaFPhOuYsKkXSbK9TxNzSFBlm18y6tafV1p98HQT85SJsFfI0fI0HxB2Cx4yjiP97h9yFYLdp0mFPv42noQyT5N_PU-EJi-Pd2bJHk5qedRc0LhA7E9IXOfyhhVBLd_heScrk2Rf9cXxmfJRswHH0wRv6zc0lvd9QAy34o2-H7l7a8X9AVNEYi1cSnYHGA-2yF0_0y91ziW2X0w6ujlYN1biAN1nIZmrIHS_udxUm3w9b0tMJmqWq8Ybe_VcuaSk15QC_QDulNYrnpvg6FG-r0hntb-JuJ65ELP4BQmNudGLcff-GWWiZV7K3ya84cd1OAu7NlxxYwpfecVVJrXOS-MMw9lyirnc7tsOdTavPhane6MgD-1j3J3ingCkc6VCYpzRMSb9rgmccD6gKBJH8gfIcAbObJYCIepqEyVoHfo_WhyJi3uH1zKJ6V7JL7iB8ETowdQH4dwRHe49_0WjkgQy0aFy60QwlvE5GB-dl1njkEPX7OWIR9VWokoJ6E6P0ycf7k-nu2zPsin6TPBCZiptG2ZeZdQi-BcbkmQg-LfBoI6vC3TZzcpJey4wZY1Zr38VU0blbJJC2T3yCBW5yWVfFORjcwzBRoaoJLPoHUoCaEN1x7Ia4FWSOHYK-5NAFRISNy0G8RziWW30JzfHN_qOGujr-69qOyJAmqH2OKbytBETEraRrzWQgUsVn8Qcq46O5VysovV-JnQJl6UMtRUEWcfPwl2odBDm9gQ96psSMR0qv4RuoQyMWXfMixeyjRgblRt-2OIFGssVBj2fpCCw2ybulsoYoq9Z18EwnJCidb3p6z0WfqaUvPsA6-8875nOR7DNYk9SySVxSbqPKbGehApqJg2356FZ_XMf3JKl8oPVec7SYUW8OiywW6acV5N5N-gBTUpj6gsr3f9SZRkmdzOpPUsWnfpi7z5ssAMBs81_Ka1L9jkF6fsfJ_DCrMtocJvRRya_CyiOvoH9WoGrtS60q6rrvOiIQP55L4S0muAR4Tz4wRfjjPd418NNDsmAtOKqAL8Vkry_ZtTA7XRaq1BSws9h6Kw4T5gPGmA7t1dAlT5WM-MLaqeqAGhpe4-b7G_34qwRA6jnqoV-VzK4voH50d2wYoTN7wupKaK_X4tS-E3P2IvqGKkjvVI161URECAEo99wwX4lqJkNYNm0qnG3b6tm39mbHgNscWxWloIElPC8czUJaL-jobDWn-Qfhr0gmoZcQxNrCkgPc0ZMlpH9_iR6O7THQzVZffhK20VWQVnuwjtEDC4CMMZKqipITLXBB-vhV7ToUR9qJIjssja6OVbM_U2AljTWFx6EiJCOuVycGliu560jU1pWPMgmWR7Fk0Kh2reR2jkg3skMrjfvetUz8jxb_WJUN8rMTs3xd4aaNIELYbjzJE5d1Rg0LGyhMZJ9TM2RB5aE1ILy-PMubYnBNyWJUglPI7z9o4HKHLyHCGUXF7Z9ZeFNrzjMC7HSz6rUJwHotQ1y5RB1UJMJSOchjKbhw0b6f3-2MOkHCd6GOZA2s_94AcNnG5ee_-84FAKefPeT2UaM1dJRMIkBKJlObznbjk5q1vJmoIhGZ9c4i6UKE6a18g66ykiJ3JpHrwOSvQPzU9Hi5jvFwekU88NzE5TduOXjkjQaNa2sy_1S_UvTGhSD00JdR7ozcfcn32W_VQ7j89mLhzx6BO17uzhZfDz-A59PfBkvHruXriBAHnLvlBfk2IZYNsElRceawWt7U7Aatg5Dn_NkKyj9gMeL7EB-I9VkpkXgH3v-E9aiwajd8LdaVIJO9XXS7Jr5KZnzmALDAo8TzBeve740TC8FH09o-dj_tT" class="x1i10hfl xjbqb8w x1ejq31n xd10rxx x1sy0etr x17r0tee x972fbf xcfux6l x1qhh985 xm0m39n x9f619 x1ypdohk xt0psk2 xe8uvvx xdj266r x11i5rnm xat24cr x1mh8g0r xexx8yu x4uap5 x18d9i69 xkhd6sd x16tdsg8 x1hl2dhg xggy1nq x1a2a7pz xkrqix3 x1sur9pj x1fey0fg x1s688f" href="https://www.facebook.com/integrityautorgv?__cft__[0]=AZVJNV-RkXPh4xKrEUwSpoVXX-ivnVRGWqPrh9P2moxyFTtdZux5FgFlNLz1-HDh3jv3jadlpBKMBivWAcamYe35Gx7KUDLZJC9hfIvtut0Q1wpm29rdklZG4oWMc9cx_VDzvaqAZ_GFQPEKkfWWXQmdwsnMSnoSeYYUawEVjDLPG2BCDb95dG1UQg9wi-sPC6A&amp\;__tn__=-]K-R" role="link" style="color: var(--blue-link)\; cursor: pointer\; text-decoration-line: none\; list-style: none\; margin: 0px\; text-align: inherit\; border-style: none\; padding: 0px\; box-sizing: border-box\; border-width: 0px\; outline: none\; -webkit-tap-highlight-color: transparent\; font-weight: 600\; touch-action: manipulation\; background-color: transparent\; display: inline\; font-family: inherit\;" tabindex="0"><span class="xt0psk2" style="display: inline\; font-family: inherit\;">Integrity Auto Repair</span></a></span><span style="color: rgb(8\, 8\, 9)\; font-family: &quot\;Segoe UI Historic&quot\;\, &quot\;Segoe UI&quot\;\, Helvetica\, Arial\, sans-serif\; white-space-collapse: preserve\;">\, where your peace of mind comes first!</span></span>
LOCATION:1005 US BUS 83\, McAllen\, TX 78501
UID:e.3411.941
SEQUENCE:3
DTSTAMP:20260422T180052Z
URL:https://members.rgvhcc.org/events/details/ribbon-cutting-integrity-auto-repair-mcallentx-941
END:VEVENT

END:VCALENDAR
