BEGIN:VCALENDAR
VERSION:2.0
PRODID:-//ChamberMaster//Event Calendar 2.0//EN
METHOD:PUBLISH
X-PUBLISHED-TTL:P3D
REFRESH-INTERVAL:P3D
CALSCALE:GREGORIAN
BEGIN:VEVENT
DTSTART:20251208T173000Z
DTEND:20251208T183000Z
X-MICROSOFT-CDO-ALLDAYEVENT:FALSE
SUMMARY:Ribbon Cutting - Kato Sabi Sushi Bar (McAllen)
DESCRIPTION:The Rio Grande Valley Hispanic Chamber of Commerce is excited to welcome Kato Sabi Sushi Bar\, opening this Monday in McAllen!\n\n\n\nWe invite you to join us in celebrating this fresh and flavorful new addition to our local business community.\n\n\n\nWelcome to Kato Sabi Sushi Bar\, where craft\, culture\, and modern cuisine meet. Bringing a bold take on sushi and Japanese-inspired dining\, Kato Sabi is set to offer McAllen a vibrant atmosphere\, innovative rolls\, and a dining experience that blends creativity with authenticity. A new spot for food lovers   and a new win for our region's culinary scene.\n\n\n\nExciting beginnings are ahead   let's continue supporting and uplifting the entrepreneurs shaping the Valley!\n\n\n\nFollow them here: https://www.facebook.com/profile.php?id=61582419693672
X-ALT-DESC;FMTTYPE=text/html:The Rio Grande Valley Hispanic Chamber of Commerce is excited to welcome Kato Sabi Sushi Bar\, opening this Monday in McAllen!<br />\n<br />\nWe invite you to join us in celebrating this fresh and flavorful new addition to our local business community.<br />\n<br />\nWelcome to Kato Sabi Sushi Bar\, where craft\, culture\, and modern cuisine meet. Bringing a bold take on sushi and Japanese-inspired dining\, Kato Sabi is set to offer McAllen a vibrant atmosphere\, innovative rolls\, and a dining experience that blends creativity with authenticity. A new spot for food lovers &mdash\; and a new win for our region&rsquo\;s culinary scene.<br />\n<br />\nExciting beginnings are ahead &mdash\; let&rsquo\;s continue supporting and uplifting the entrepreneurs shaping the Valley!<br />\n<br />\nFollow them here: <a href="https://www.facebook.com/profile.php?id=61582419693672">https://www.facebook.com/profile.php?id=61582419693672</a>
LOCATION:
UID:e.3411.1098
SEQUENCE:3
DTSTAMP:20260422T050237Z
URL:https://members.rgvhcc.org/events/details/ribbon-cutting-kato-sabi-sushi-bar-mcallen-1098
END:VEVENT

END:VCALENDAR
