BEGIN:VCALENDAR
VERSION:2.0
PRODID:-//ChamberMaster//Event Calendar 2.0//EN
METHOD:PUBLISH
X-PUBLISHED-TTL:P3D
REFRESH-INTERVAL:P3D
CALSCALE:GREGORIAN
BEGIN:VEVENT
DTSTART:20250910T223000Z
DTEND:20250911T000000Z
X-MICROSOFT-CDO-ALLDAYEVENT:FALSE
SUMMARY:Ribbon Cutting - Mission Regional Medical Center - Launch Event
DESCRIPTION:The RGV Hispanic Chamber of Commerce and the Mission Regional Medical Center invites you to the official launch of the StepOne Service on Wednesday\, September 10\, 2025\, from 5:30 to 7:00 PM.\n\n\n\nThis new service line is designed to support individuals facing Alcohol and Opioid Use Disorder. As part of Recovery Month\, we're bringing the community together to learn more about this important initiative.\n\n\n\nWhat to Expect:\n\n-Ribbon Cutting Ceremony\n\n-Meet the Team\n\n-Introduction to the Service\n\n-Q&A Session\n\n-Complimentary beverages provided by Starbucks
X-ALT-DESC;FMTTYPE=text/html:<div class="kvgmc6g5 cxmmr5t8 oygrvhab hcukyx3x c1et5uql" style="overflow-wrap: break-word\; margin: 0px\; font-family: system-ui\, -apple-system\, &quot\;system-ui&quot\;\, &quot\;.SFNSText-Regular&quot\;\, sans-serif\; color: rgb(5\, 5\, 5)\; font-size: 15px\;"><span style="font-family:arial\;"><span style="color: rgb(31\, 31\, 31)\; font-size: 14px\; font-variant-ligatures: no-contextual\; background-color: rgb(233\, 238\, 246)\;">The RGV Hispanic Chamber of Commerce and the&nbsp\;</span><a href="https://www.google.com/url?q=https://www.facebook.com/MissionRegional?__tn__%3D-%5DK*F&amp\;sa=D&amp\;source=calendar&amp\;ust=1757858217520885&amp\;usg=AOvVaw0Xsg3Dt0FCm9B2X46nGP4u" style="color: rgb(11\, 87\, 208)\; cursor: auto\; font-family: &quot\;Google Sans Text&quot\;\, &quot\;Google Sans&quot\;\, Helvetica\, Arial\, sans-serif\; font-size: 14px\; font-variant-ligatures: no-contextual\; background-color: rgb(233\, 238\, 246)\;" target="_blank">Mission Regional Medical Center</a><span style="color: rgb(31\, 31\, 31)\; font-size: 14px\; font-variant-ligatures: no-contextual\; background-color: rgb(233\, 238\, 246)\;">&nbsp\;invites you to the official launch of the StepOne Service on Wednesday\, September 10\, 2025\, from 5:30 to 7:00 PM.</span><br style="color: rgb(31\, 31\, 31)\; font-family: &quot\;Google Sans Text&quot\;\, &quot\;Google Sans&quot\;\, Helvetica\, Arial\, sans-serif\; font-size: 14px\; font-variant-ligatures: no-contextual\; background-color: rgb(233\, 238\, 246)\;" />\n<br style="color: rgb(31\, 31\, 31)\; font-family: &quot\;Google Sans Text&quot\;\, &quot\;Google Sans&quot\;\, Helvetica\, Arial\, sans-serif\; font-size: 14px\; font-variant-ligatures: no-contextual\; background-color: rgb(233\, 238\, 246)\;" />\n<span style="color: rgb(31\, 31\, 31)\; font-size: 14px\; font-variant-ligatures: no-contextual\; background-color: rgb(233\, 238\, 246)\;">This new service line is designed to support individuals facing Alcohol and Opioid Use Disorder. As part of Recovery Month\, we&rsquo\;re bringing the community together to learn more about this important initiative.</span><br style="color: rgb(31\, 31\, 31)\; font-family: &quot\;Google Sans Text&quot\;\, &quot\;Google Sans&quot\;\, Helvetica\, Arial\, sans-serif\; font-size: 14px\; font-variant-ligatures: no-contextual\; background-color: rgb(233\, 238\, 246)\;" />\n<br style="color: rgb(31\, 31\, 31)\; font-family: &quot\;Google Sans Text&quot\;\, &quot\;Google Sans&quot\;\, Helvetica\, Arial\, sans-serif\; font-size: 14px\; font-variant-ligatures: no-contextual\; background-color: rgb(233\, 238\, 246)\;" />\n<span style="color: rgb(31\, 31\, 31)\; font-size: 14px\; font-variant-ligatures: no-contextual\; background-color: rgb(233\, 238\, 246)\;">What to Expect:</span><br style="color: rgb(31\, 31\, 31)\; font-family: &quot\;Google Sans Text&quot\;\, &quot\;Google Sans&quot\;\, Helvetica\, Arial\, sans-serif\; font-size: 14px\; font-variant-ligatures: no-contextual\; background-color: rgb(233\, 238\, 246)\;" />\n<span style="color: rgb(31\, 31\, 31)\; font-size: 14px\; font-variant-ligatures: no-contextual\; background-color: rgb(233\, 238\, 246)\;">-Ribbon Cutting Ceremony</span><br style="color: rgb(31\, 31\, 31)\; font-family: &quot\;Google Sans Text&quot\;\, &quot\;Google Sans&quot\;\, Helvetica\, Arial\, sans-serif\; font-size: 14px\; font-variant-ligatures: no-contextual\; background-color: rgb(233\, 238\, 246)\;" />\n<span style="color: rgb(31\, 31\, 31)\; font-size: 14px\; font-variant-ligatures: no-contextual\; background-color: rgb(233\, 238\, 246)\;">-Meet the Team</span><br style="color: rgb(31\, 31\, 31)\; font-family: &quot\;Google Sans Text&quot\;\, &quot\;Google Sans&quot\;\, Helvetica\, Arial\, sans-serif\; font-size: 14px\; font-variant-ligatures: no-contextual\; background-color: rgb(233\, 238\, 246)\;" />\n<span style="color: rgb(31\, 31\, 31)\; font-size: 14px\; font-variant-ligatures: no-contextual\; background-color: rgb(233\, 238\, 246)\;">-Introduction to the Service</span><br style="color: rgb(31\, 31\, 31)\; font-family: &quot\;Google Sans Text&quot\;\, &quot\;Google Sans&quot\;\, Helvetica\, Arial\, sans-serif\; font-size: 14px\; font-variant-ligatures: no-contextual\; background-color: rgb(233\, 238\, 246)\;" />\n<span style="color: rgb(31\, 31\, 31)\; font-size: 14px\; font-variant-ligatures: no-contextual\; background-color: rgb(233\, 238\, 246)\;">-Q&amp\;A Session</span><br style="color: rgb(31\, 31\, 31)\; font-family: &quot\;Google Sans Text&quot\;\, &quot\;Google Sans&quot\;\, Helvetica\, Arial\, sans-serif\; font-size: 14px\; font-variant-ligatures: no-contextual\; background-color: rgb(233\, 238\, 246)\;" />\n<span style="color: rgb(31\, 31\, 31)\; font-size: 14px\; font-variant-ligatures: no-contextual\; background-color: rgb(233\, 238\, 246)\;">-Complimentary beverages provided by Starbucks</span></span></div>\n
LOCATION:Mission Regional Medical Center
UID:e.3411.1041
SEQUENCE:3
DTSTAMP:20260422T094151Z
URL:https://members.rgvhcc.org/events/details/ribbon-cutting-mission-regional-medical-center-launch-event-1041
END:VEVENT

END:VCALENDAR
