BEGIN:VCALENDAR
VERSION:2.0
PRODID:-//ChamberMaster//Event Calendar 2.0//EN
METHOD:PUBLISH
X-PUBLISHED-TTL:P3D
REFRESH-INTERVAL:P3D
CALSCALE:GREGORIAN
BEGIN:VEVENT
DTSTART:20250827T210000Z
DTEND:20250827T220000Z
X-MICROSOFT-CDO-ALLDAYEVENT:FALSE
SUMMARY:Ribbon Cutting - Mujinzo - McAllen
DESCRIPTION:The Rio Grande Valley Hispanic Chamber of Commerce is excited to spotlight Mujinzo\, an acclaimed Asian restaurant\, located at 7100 N 10th St\, McAllen\, TX 78504. Let's show our support as they continue serving delicious dishes and bringing authentic Asian cuisine to our community.
X-ALT-DESC;FMTTYPE=text/html:<p data-end="240" data-start="142">The Rio Grande Valley Hispanic Chamber of Commerce is excited to spotlight <strong data-end="245" data-start="234">Mujinzo</strong>\, an acclaimed Asian restaurant\, located at <strong data-end="356" data-start="319">7100 N 10th St\, McAllen\, TX 78504</strong>. Let&rsquo\;s show our support as they continue serving delicious dishes and bringing authentic Asian cuisine to our community.</p>\n
LOCATION:
UID:e.3411.1037
SEQUENCE:3
DTSTAMP:20260422T112833Z
URL:https://members.rgvhcc.org/events/details/ribbon-cutting-mujinzo-mcallen-1037
END:VEVENT

END:VCALENDAR
