BEGIN:VCALENDAR
VERSION:2.0
PRODID:-//ChamberMaster//Event Calendar 2.0//EN
METHOD:PUBLISH
X-PUBLISHED-TTL:P3D
REFRESH-INTERVAL:P3D
CALSCALE:GREGORIAN
BEGIN:VEVENT
DTSTART:20240801T160000Z
DTEND:20240801T180000Z
X-MICROSOFT-CDO-ALLDAYEVENT:FALSE
SUMMARY:Ribbon Cutting - Oak Texas Bar & Grill North Park
DESCRIPTION:We are delighted to invite you to join us for the Ribbon Cutting and Grand Opening Ceremony of Oak Texas Bar & Grill - North Park. This exciting event marks the official launch of Oak Texas Bar & Grill - North Park and we couldn't be more thrilled to share this special occasion with our esteemed members.\n\nWe are honored to celebrate this milestone with Oak Texas Bar & Grill - North Park and look forward to your presence at this memorable event. Your support and participation are greatly appreciated as we welcome Oak Texas Bar & Grill - North Park to our vibrant business community.\n\nJoin us as we celebrate growth\, innovation\, and the spirit of entrepreneurship. See you there!
X-ALT-DESC;FMTTYPE=text/html:<p>We are delighted to invite you to join us for the Ribbon Cutting and Grand Opening Ceremony of Oak Texas Bar &amp\; Grill - North Park.&nbsp\;This exciting event marks the official launch of <span style="color: rgb(51\, 51\, 51)\; font-family: sans-serif\, Arial\, Verdana\, &quot\;Trebuchet MS&quot\;\; font-size: 13px\; background-color: rgb(255\, 255\, 255)\;">Oak Texas Bar &amp\; Grill - North Park</span>&nbsp\;and we couldn&#39\;t be more thrilled to share this special occasion with our esteemed members.</p>\n\n<p>We are honored to celebrate this milestone with <span style="color: rgb(51\, 51\, 51)\; font-family: sans-serif\, Arial\, Verdana\, &quot\;Trebuchet MS&quot\;\; font-size: 13px\; background-color: rgb(255\, 255\, 255)\;">Oak Texas Bar &amp\; Grill - North Park&nbsp\;</span>and look forward to your presence at this memorable event. Your support and participation are greatly appreciated as we welcome <span style="color: rgb(51\, 51\, 51)\; font-family: sans-serif\, Arial\, Verdana\, &quot\;Trebuchet MS&quot\;\; font-size: 13px\; background-color: rgb(255\, 255\, 255)\;">Oak Texas Bar &amp\; Grill - North Park</span> to our vibrant business community.</p>\n\n<p>Join us as we celebrate growth\, innovation\, and the spirit of entrepreneurship. See you there!</p>\n\n<p>&nbsp\;</p>\n
LOCATION:
UID:e.3411.798
SEQUENCE:3
DTSTAMP:20260423T221332Z
URL:https://members.rgvhcc.org/events/details/ribbon-cutting-oak-texas-bar-grill-north-park-798
END:VEVENT

END:VCALENDAR
