BEGIN:VCALENDAR
VERSION:2.0
PRODID:-//ChamberMaster//Event Calendar 2.0//EN
METHOD:PUBLISH
X-PUBLISHED-TTL:P3D
REFRESH-INTERVAL:P3D
CALSCALE:GREGORIAN
BEGIN:VEVENT
DTSTART:20260114T200000Z
DTEND:20260114T210000Z
X-MICROSOFT-CDO-ALLDAYEVENT:FALSE
SUMMARY:Ribbon Cutting - Paisano Income Tax (McAllen)
DESCRIPTION:The Rio Grande Valley Hispanic Chamber of Commerce is excited to celebrate Paisano Income Tax   McAllen and their commitment to providing expert\, personalized tax services to our community!\n\n\n\nWe invite you to join us for their ribbon cutting as they open their newest location   a place designed to make tax preparation easy\, accurate\, and stress-free.\n\n\n\nLet's celebrate this milestone and welcome Paisano Income Tax   McAllen as they continue helping the Rio Grande Valley achieve financial clarity and confidence!\n\n\n\nFollow them here: facebook.com/paisanotaxalamo/
X-ALT-DESC;FMTTYPE=text/html:<span style="font-family:arial\;"><span style="font-size:14px\;">The Rio Grande Valley Hispanic Chamber of Commerce is excited to celebrate Paisano Income Tax &ndash\; McAllen and their commitment to providing expert\, personalized tax services to our community!<br />\n<br />\nWe&nbsp\;invite you to join us for their ribbon cutting as they open their newest location &mdash\; a place designed to make tax preparation easy\, accurate\, and stress-free.<br />\n<br />\nLet&rsquo\;s celebrate this milestone and welcome Paisano Income Tax &ndash\; McAllen as they continue helping the Rio Grande Valley achieve financial clarity and confidence!<br />\n<br />\nFollow them here:<a href="http://facebook.com/paisanotaxalamo/"> facebook.com/paisanotaxalamo/</a></span></span>
LOCATION:
UID:e.3411.1113
SEQUENCE:3
DTSTAMP:20260422T030840Z
URL:https://members.rgvhcc.org/events/details/ribbon-cutting-paisano-income-tax-mcallen-1113
END:VEVENT

END:VCALENDAR
