BEGIN:VCALENDAR
VERSION:2.0
PRODID:-//ChamberMaster//Event Calendar 2.0//EN
METHOD:PUBLISH
X-PUBLISHED-TTL:P3D
REFRESH-INTERVAL:P3D
CALSCALE:GREGORIAN
BEGIN:VEVENT
DTSTART:20240614T163000Z
DTEND:20240614T180000Z
X-MICROSOFT-CDO-ALLDAYEVENT:FALSE
SUMMARY:Ribbon Cutting - Play Street Museum McAllen
DESCRIPTION:
X-ALT-DESC;FMTTYPE=text/html:
LOCATION:Play Street Museum
UID:e.3411.785
SEQUENCE:3
DTSTAMP:20260424T041958Z
URL:https://members.rgvhcc.org/events/details/ribbon-cutting-play-street-museum-mcallen-785
END:VEVENT

END:VCALENDAR
