BEGIN:VCALENDAR
VERSION:2.0
PRODID:-//ChamberMaster//Event Calendar 2.0//EN
METHOD:PUBLISH
X-PUBLISHED-TTL:P3D
REFRESH-INTERVAL:P3D
CALSCALE:GREGORIAN
BEGIN:VEVENT
DTSTART:20260326T213000Z
DTEND:20260326T223000Z
X-MICROSOFT-CDO-ALLDAYEVENT:FALSE
SUMMARY:Ribbon Cutting - Premier High School (San Juan)
DESCRIPTION:The Rio Grande Valley Hispanic Chamber of Commerce invites you to join us for a special ribbon cutting celebration for Premier High School   San Juan as we welcome them as a valued member of our Chamber community.\n\n\n\nPremier High School   San Juan is dedicated to helping students succeed through a flexible and supportive learning environment designed to meet the unique needs of every learner. Their team works closely with students to help them stay on track\, recover credits\, and achieve their goal of graduating.\n\n\n\nJoin us as we celebrate Premier High School   San Juan and their commitment to expanding educational opportunities and supporting student success in our community.\n\n\n\nFollow them here: facebook.com/PremierHighSchoolSanJuan/
X-ALT-DESC;FMTTYPE=text/html:<span style="font-size:14px\;"><span style="font-family:arial\;">The Rio Grande Valley Hispanic Chamber of Commerce invites you to join us for a special ribbon cutting celebration for Premier High School &ndash\; San Juan as we welcome them as a valued member of our Chamber community.<br />\n<br />\nPremier High School &ndash\; San Juan is dedicated to helping students succeed through a flexible and supportive learning environment designed to meet the unique needs of every learner. Their team works closely with students to help them stay on track\, recover credits\, and achieve their goal of graduating.<br />\n<br />\nJoin us as we celebrate Premier High School &ndash\; San Juan and their commitment to expanding educational opportunities and supporting student success in our community.</span></span><br />\n<br />\n<span style="font-family:arial\;"><span style="font-size:14px\;">Follow them here: <a href="http://Follow them here: facebook.com/PremierHighSchoolSanJuan/">facebook.com/PremierHighSchoolSanJuan/</a></span></span>
LOCATION:
UID:e.3411.1141
SEQUENCE:3
DTSTAMP:20260421T233759Z
URL:https://members.rgvhcc.org/events/details/ribbon-cutting-premier-high-school-san-juan-1141
END:VEVENT

END:VCALENDAR
