BEGIN:VCALENDAR
VERSION:2.0
PRODID:-//ChamberMaster//Event Calendar 2.0//EN
METHOD:PUBLISH
X-PUBLISHED-TTL:P3D
REFRESH-INTERVAL:P3D
CALSCALE:GREGORIAN
BEGIN:VEVENT
DTSTART:20260302T180000Z
DTEND:20260302T190000Z
X-MICROSOFT-CDO-ALLDAYEVENT:FALSE
SUMMARY:Ribbon Cutting - Prodigy Center (Edinburg)
DESCRIPTION:The Rio Grande Valley Hispanic Chamber of Commerce invites you to join us for a special ribbon cutting celebration for Prodigy Center Tutoring as they celebrate the opening of their new Edinburg location.\n\n\n\nProdigy Center Tutoring is a dedicated learning center focused on helping students succeed through personalized tutoring\, language classes\, science and engineering camps\, and a variety of enrichment programs designed to support academic growth and confidence.\n\n\n\nThis celebration marks an exciting milestone in their expansion and continued commitment to serving families across the Rio Grande Valley. Their work plays an important role in strengthening educational opportunities in our community and empowering the next generation of learners.\n\n\n\nJoin us as we welcome Prodigy Center's new Edinburg location and celebrate their impact on students\, families\, and the future of our region.
X-ALT-DESC;FMTTYPE=text/html:<span style="font-size:14px\;"><span style="font-family:arial\;">The Rio Grande Valley Hispanic Chamber of Commerce invites you to join us for a special ribbon cutting celebration for Prodigy Center Tutoring as they celebrate the opening of their new Edinburg location.<br />\n<br />\nProdigy Center Tutoring is a dedicated learning center focused on helping students succeed through personalized tutoring\, language classes\, science and engineering camps\, and a variety of enrichment programs designed to support academic growth and confidence.<br />\n<br />\nThis celebration marks an exciting milestone in their expansion and continued commitment to serving families across the Rio Grande Valley. Their work plays an important role in strengthening educational opportunities in our community and empowering the next generation of learners.<br />\n<br />\nJoin us as we welcome Prodigy Center&rsquo\;s new Edinburg location and celebrate their impact on students\, families\, and the future of our region.</span></span>
LOCATION:
UID:e.3411.1140
SEQUENCE:3
DTSTAMP:20260421T233759Z
URL:https://members.rgvhcc.org/events/details/ribbon-cutting-prodigy-center-edinburg-1140
END:VEVENT

END:VCALENDAR
