BEGIN:VCALENDAR
VERSION:2.0
PRODID:-//ChamberMaster//Event Calendar 2.0//EN
METHOD:PUBLISH
X-PUBLISHED-TTL:P3D
REFRESH-INTERVAL:P3D
CALSCALE:GREGORIAN
BEGIN:VEVENT
DTSTART:20231109T223000Z
DTEND:20231110T003000Z
X-MICROSOFT-CDO-ALLDAYEVENT:FALSE
SUMMARY:Ribbon Cutting - Radisson McAllen Airport
DESCRIPTION:
X-ALT-DESC;FMTTYPE=text/html:
LOCATION:
UID:e.3411.662
SEQUENCE:3
DTSTAMP:20260424T122544Z
URL:https://members.rgvhcc.org/events/details/ribbon-cutting-radisson-mcallen-airport-662
END:VEVENT

END:VCALENDAR
