BEGIN:VCALENDAR
VERSION:2.0
PRODID:-//ChamberMaster//Event Calendar 2.0//EN
METHOD:PUBLISH
X-PUBLISHED-TTL:P3D
REFRESH-INTERVAL:P3D
CALSCALE:GREGORIAN
BEGIN:VEVENT
DTSTART:20240920T160000Z
DTEND:20240920T180000Z
X-MICROSOFT-CDO-ALLDAYEVENT:FALSE
SUMMARY:Ribbon Cutting - San Mateo Prime Meats
DESCRIPTION:
X-ALT-DESC;FMTTYPE=text/html:
LOCATION:San Mateo Prime Meats
UID:e.3411.818
SEQUENCE:3
DTSTAMP:20260423T140640Z
URL:https://members.rgvhcc.org/events/details/ribbon-cutting-san-mateo-prime-meats-818
END:VEVENT

END:VCALENDAR
