BEGIN:VCALENDAR
VERSION:2.0
PRODID:-//ChamberMaster//Event Calendar 2.0//EN
METHOD:PUBLISH
X-PUBLISHED-TTL:P3D
REFRESH-INTERVAL:P3D
CALSCALE:GREGORIAN
BEGIN:VEVENT
DTSTART:20260416T223000Z
DTEND:20260416T233000Z
X-MICROSOFT-CDO-ALLDAYEVENT:FALSE
SUMMARY:Ribbon Cutting - Sendera Title (South Padre Island)
DESCRIPTION:The Rio Grande Valley Hispanic Chamber of Commerce invites you to join us for a special ribbon cutting celebration welcoming Sendera Title   South Padre Island as one of our newest Chamber members.\n\n\n\nSendera Title offers a professional and reliable real estate closing experience\, combining the personalized service of a local boutique office with the expertise of an established Texas title company. With bilingual staff\, in-house attorneys\, and experienced escrow officers\, their team works to ensure smooth residential and commercial transactions.\n\n\n\nJoin us as we welcome Sendera Title   South Padre Island and celebrate their commitment to serving the coastal real estate community.
X-ALT-DESC;FMTTYPE=text/html:<span style="font-size:14px\;"><span style="font-family:arial\;">The Rio Grande Valley Hispanic Chamber of Commerce invites you to join us for a special ribbon cutting celebration welcoming Sendera Title &ndash\; South Padre Island as one of our newest Chamber members.<br />\n<br />\nSendera Title offers a professional and reliable real estate closing experience\, combining the personalized service of a local boutique office with the expertise of an established Texas title company. With bilingual staff\, in-house attorneys\, and experienced escrow officers\, their team works to ensure smooth residential and commercial transactions.<br />\n<br />\nJoin us as we welcome Sendera Title &ndash\; South Padre Island and celebrate their commitment to serving the coastal real estate community.</span></span>
LOCATION:
UID:e.3411.1142
SEQUENCE:3
DTSTAMP:20260421T221515Z
URL:https://members.rgvhcc.org/events/details/ribbon-cutting-sendera-title-south-padre-island-1142
END:VEVENT

END:VCALENDAR
