BEGIN:VCALENDAR
VERSION:2.0
PRODID:-//ChamberMaster//Event Calendar 2.0//EN
METHOD:PUBLISH
X-PUBLISHED-TTL:P3D
REFRESH-INTERVAL:P3D
CALSCALE:GREGORIAN
BEGIN:VEVENT
DTSTART:20240626T213000Z
DTEND:20240626T230000Z
X-MICROSOFT-CDO-ALLDAYEVENT:FALSE
SUMMARY:Ribbon Cutting - Sidebar Edinburg
DESCRIPTION:
X-ALT-DESC;FMTTYPE=text/html:
LOCATION:Sidebar Edinburg
UID:e.3411.782
SEQUENCE:3
DTSTAMP:20260424T041729Z
URL:https://members.rgvhcc.org/events/details/ribbon-cutting-sidebar-edinburg-782
END:VEVENT

END:VCALENDAR
