BEGIN:VCALENDAR
VERSION:2.0
PRODID:-//ChamberMaster//Event Calendar 2.0//EN
METHOD:PUBLISH
X-PUBLISHED-TTL:P3D
REFRESH-INTERVAL:P3D
CALSCALE:GREGORIAN
BEGIN:VEVENT
DTSTART:20241003T150000Z
DTEND:20241003T170000Z
X-MICROSOFT-CDO-ALLDAYEVENT:FALSE
SUMMARY:Ribbon Cutting - South Texas Health System ER Pharr
DESCRIPTION:South Texas Health System is thrilled to bring expanded healthcare services to the residents in the City of Pharr and the surrounding communities beginning this October with the opening of its seventh freestanding emergency department\, South Texas Health System ER Pharr.\n\n \n\nLocated near the intersection of Ridge and Cage roads\, STHS ER Pharr will be a full-service emergency room capable of providing round-the-clock care for adult and pediatric patients. Additionally\, the facility will offer outpatient diagnostic and laboratory services for adults and children.\n\n \n\nTo mark the official grand opening of the $14.3 million facility\, please join us for a special ceremony on the STHS ER Pharr grounds on Thursday\, October 3. Along with taking part in a special ribbon-cutting ceremony\, you'll have the opportunity to tour the facility.
X-ALT-DESC;FMTTYPE=text/html:<strong><span style="color:#c00000\;"><span style="font-family:calibri\,sans-serif\;">South Texas Health System</span></span></strong>&nbsp\;<span style="font-family:calibri\,sans-serif\;">is thrilled to bring expanded healthcare services to the residents in the City of Pharr and the surrounding communities beginning this October with the opening of its seventh freestanding emergency department\,&nbsp\;<strong><span style="color:#c00000\;">South Texas Health System ER Pharr</span></strong>.</span><br />\n&nbsp\;<br />\n<span style="font-family:calibri\,sans-serif\;">Located near the intersection of Ridge and Cage roads\, STHS ER Pharr will be a full-service emergency room capable of providing round-the-clock care for adult and pediatric patients. Additionally\, the facility will offer outpatient diagnostic and laboratory services for adults and children.</span><br />\n&nbsp\;<br />\n<span style="font-family:calibri\,sans-serif\;">To mark the official grand opening of the $14.3 million facility\, please join us for a special ceremony on the STHS ER Pharr grounds on Thursday\, October 3. Along with taking part in a special ribbon-cutting ceremony\, you&rsquo\;ll have the opportunity to tour the facility.</span>
LOCATION:SOUTH TEXAS HEALTH SYSTEM ER PHARR
UID:e.3411.823
SEQUENCE:3
DTSTAMP:20260423T110059Z
URL:https://members.rgvhcc.org/events/details/ribbon-cutting-south-texas-health-system-er-pharr-823
END:VEVENT

END:VCALENDAR
