BEGIN:VCALENDAR
VERSION:2.0
PRODID:-//ChamberMaster//Event Calendar 2.0//EN
METHOD:PUBLISH
X-PUBLISHED-TTL:P3D
REFRESH-INTERVAL:P3D
CALSCALE:GREGORIAN
BEGIN:VEVENT
DTSTART:20240905T150000Z
DTEND:20240906T043000Z
X-MICROSOFT-CDO-ALLDAYEVENT:FALSE
SUMMARY:Ribbon Cutting - Spirit Halloween Check Presentation
DESCRIPTION:Last year\, South Texas Health System Children's partnered with Spirit of Children once again for the Spirit Halloween campaign\, which donates a portion of the proceeds from the sale of Halloween costumes and d cor from its Rio Grande Valley stores to STHS Children's' Child Life Program. And it's now time to find out how much the Valley helped raise and see the brand new space 2021's Spirit Halloween proceeds helped create!\n\n \n\nYou are cordially invited to join us for the official Spirit Halloween proceeds check presentation ceremony from Spirit of Children to the Auxiliary to South Texas Health System for the Child Life program at South Texas Health System Children's and participate in the official ribbon-cutting ceremony of the hospital's Children's Healing Garden.\n\n \n\nRefreshments and light food will be served.
X-ALT-DESC;FMTTYPE=text/html:Last year\, South Texas Health System Children&rsquo\;s partnered with&nbsp\;Spirit&nbsp\;of Children once again for the&nbsp\;Spirit&nbsp\;Halloween&nbsp\;campaign\, which donates a portion of the proceeds from the sale of&nbsp\;Halloween&nbsp\;costumes and d&eacute\;cor from its Rio Grande Valley stores to STHS Children&rsquo\;s&rsquo\; Child Life Program. And it&rsquo\;s now time to find out how much the Valley helped raise and see the brand new space 2021&rsquo\;s&nbsp\;Spirit&nbsp\;Halloween&nbsp\;proceeds helped create!<br />\n&nbsp\;<br />\nYou are cordially invited to join us for the official&nbsp\;Spirit&nbsp\;Halloween&nbsp\;proceeds check presentation ceremony from&nbsp\;<strong>Spirit&nbsp\;of Children to the Auxiliary to</strong>&nbsp\;<strong>South Texas Health System&nbsp\;</strong>for the Child Life program at&nbsp\;<strong>South Texas Health System Children&rsquo\;s&nbsp\;</strong>and participate in the official ribbon-cutting ceremony of the hospital&rsquo\;s Children&rsquo\;s Healing Garden.<br />\n&nbsp\;<br />\n<em><span style="color:black\;"><span style="font-family:circe-lightitalic\,sans-serif\;">Refreshments and light food will be served.</span></span></em>\n<div>&nbsp\;</div>\n
LOCATION:SPIRIT HALLOWEEN 1801 S. 10th St. McAllen\, TX 78503 Refreshments and light food will be provided.
UID:e.3411.815
SEQUENCE:3
DTSTAMP:20260423T152908Z
URL:https://members.rgvhcc.org/events/details/ribbon-cutting-spirit-halloween-check-presentation-815
END:VEVENT

END:VCALENDAR
