BEGIN:VCALENDAR
VERSION:2.0
PRODID:-//ChamberMaster//Event Calendar 2.0//EN
METHOD:PUBLISH
X-PUBLISHED-TTL:P3D
REFRESH-INTERVAL:P3D
CALSCALE:GREGORIAN
BEGIN:VEVENT
DTSTART:20240222T223000Z
DTEND:20240223T023000Z
X-MICROSOFT-CDO-ALLDAYEVENT:FALSE
SUMMARY:Ribbon Cutting - The LIBRE Initiative
DESCRIPTION:
X-ALT-DESC;FMTTYPE=text/html:
LOCATION:
UID:e.3411.702
SEQUENCE:3
DTSTAMP:20260424T092659Z
URL:https://members.rgvhcc.org/events/details/ribbon-cutting-the-libre-initiative-702
END:VEVENT

END:VCALENDAR
