BEGIN:VCALENDAR
VERSION:2.0
PRODID:-//ChamberMaster//Event Calendar 2.0//EN
METHOD:PUBLISH
X-PUBLISHED-TTL:P3D
REFRESH-INTERVAL:P3D
CALSCALE:GREGORIAN
BEGIN:VEVENT
DTSTART:20250919T213000Z
DTEND:20250919T223000Z
X-MICROSOFT-CDO-ALLDAYEVENT:FALSE
SUMMARY:Ribbon Cutting - The M Method Pilates - Edinburg
DESCRIPTION:The Rio Grande Valley Hispanic Chamber of Commerce is excited to spotlight The M Method by Maritza R. Luebbers\, located in McAllen\, TX! Join us for their Ribbon Cutting on Friday\, September 19\, 2025\, at 4:30 PM\, where we'll be celebrating alongside the Edinburg Chamber of Commerce. Let's show our support as they continue empowering the community through health\, wellness\, and Pilates.\n\n\n\nFollow along at instagram.com/mmethodpilates
X-ALT-DESC;FMTTYPE=text/html:<div class="kvgmc6g5 cxmmr5t8 oygrvhab hcukyx3x c1et5uql" style="overflow-wrap: break-word\; margin: 0px\;">\n<p data-end="344" data-start="112"><span style="color: rgb(31\, 31\, 31)\; font-family: &quot\;Google Sans Text&quot\;\, &quot\;Google Sans&quot\;\, Helvetica\, Arial\, sans-serif\; font-size: 14px\; font-variant-ligatures: no-contextual\; background-color: rgb(233\, 238\, 246)\;">&nbsp\;The Rio Grande Valley Hispanic Chamber of Commerce is excited to spotlight&nbsp\;</span><strong style="color: rgb(31\, 31\, 31)\; font-family: &quot\;Google Sans Text&quot\;\, &quot\;Google Sans&quot\;\, Helvetica\, Arial\, sans-serif\; font-size: 14px\; font-variant-ligatures: no-contextual\; background-color: rgb(233\, 238\, 246)\;">The M Method&nbsp\;</strong><span style="color: rgb(31\, 31\, 31)\; font-family: &quot\;Google Sans Text&quot\;\, &quot\;Google Sans&quot\;\, Helvetica\, Arial\, sans-serif\; font-size: 14px\; font-variant-ligatures: no-contextual\; background-color: rgb(233\, 238\, 246)\;">by&nbsp\;</span><strong style="color: rgb(31\, 31\, 31)\; font-family: &quot\;Google Sans Text&quot\;\, &quot\;Google Sans&quot\;\, Helvetica\, Arial\, sans-serif\; font-size: 14px\; font-variant-ligatures: no-contextual\; background-color: rgb(233\, 238\, 246)\;">Maritza R. Luebbers</strong><span style="color: rgb(31\, 31\, 31)\; font-family: &quot\;Google Sans Text&quot\;\, &quot\;Google Sans&quot\;\, Helvetica\, Arial\, sans-serif\; font-size: 14px\; font-variant-ligatures: no-contextual\; background-color: rgb(233\, 238\, 246)\;">\, located in McAllen\, TX! Join us for their Ribbon Cutting on&nbsp\;</span><strong style="color: rgb(31\, 31\, 31)\; font-family: &quot\;Google Sans Text&quot\;\, &quot\;Google Sans&quot\;\, Helvetica\, Arial\, sans-serif\; font-size: 14px\; font-variant-ligatures: no-contextual\; background-color: rgb(233\, 238\, 246)\;">Friday\, September 19\, 2025\, at 4:30 PM</strong><span style="color: rgb(31\, 31\, 31)\; font-family: &quot\;Google Sans Text&quot\;\, &quot\;Google Sans&quot\;\, Helvetica\, Arial\, sans-serif\; font-size: 14px\; font-variant-ligatures: no-contextual\; background-color: rgb(233\, 238\, 246)\;">\, where we&rsquo\;ll be celebrating alongside the&nbsp\;</span><strong style="color: rgb(31\, 31\, 31)\; font-family: &quot\;Google Sans Text&quot\;\, &quot\;Google Sans&quot\;\, Helvetica\, Arial\, sans-serif\; font-size: 14px\; font-variant-ligatures: no-contextual\; background-color: rgb(233\, 238\, 246)\;">Edinburg Chamber of Commerce</strong><span style="color: rgb(31\, 31\, 31)\; font-family: &quot\;Google Sans Text&quot\;\, &quot\;Google Sans&quot\;\, Helvetica\, Arial\, sans-serif\; font-size: 14px\; font-variant-ligatures: no-contextual\; background-color: rgb(233\, 238\, 246)\;">. Let&rsquo\;s show our support as they continue empowering the community through health\, wellness\, and Pilates.</span><br style="color: rgb(31\, 31\, 31)\; font-family: &quot\;Google Sans Text&quot\;\, &quot\;Google Sans&quot\;\, Helvetica\, Arial\, sans-serif\; font-size: 14px\; font-variant-ligatures: no-contextual\; background-color: rgb(233\, 238\, 246)\;" />\n<br style="color: rgb(31\, 31\, 31)\; font-family: &quot\;Google Sans Text&quot\;\, &quot\;Google Sans&quot\;\, Helvetica\, Arial\, sans-serif\; font-size: 14px\; font-variant-ligatures: no-contextual\; background-color: rgb(233\, 238\, 246)\;" />\n<span style="color: rgb(31\, 31\, 31)\; font-family: &quot\;Google Sans Text&quot\;\, &quot\;Google Sans&quot\;\, Helvetica\, Arial\, sans-serif\; font-size: 14px\; font-variant-ligatures: no-contextual\; background-color: rgb(233\, 238\, 246)\;">Follow along at&nbsp\;</span><a href="https://www.google.com/url?q=https://instagram.com/mmethodpilates/?utm_source%3Dchatgpt.com&amp\;sa=D&amp\;source=calendar&amp\;ust=1757858217520885&amp\;usg=AOvVaw3Bfmnl2PYpEj7qdrGgXt-l" style="color: rgb(11\, 87\, 208)\; cursor: auto\; font-family: &quot\;Google Sans Text&quot\;\, &quot\;Google Sans&quot\;\, Helvetica\, Arial\, sans-serif\; font-size: 14px\; font-variant-ligatures: no-contextual\; background-color: rgb(233\, 238\, 246)\;" target="_blank">instagram.com/mmethodpilates</a></p>\n</div>\n
LOCATION:
UID:e.3411.1043
SEQUENCE:3
DTSTAMP:20260422T094052Z
URL:https://members.rgvhcc.org/events/details/ribbon-cutting-the-m-method-pilates-edinburg-1043
END:VEVENT

END:VCALENDAR
