BEGIN:VCALENDAR
VERSION:2.0
PRODID:-//ChamberMaster//Event Calendar 2.0//EN
METHOD:PUBLISH
X-PUBLISHED-TTL:P3D
REFRESH-INTERVAL:P3D
CALSCALE:GREGORIAN
BEGIN:VEVENT
DTSTART:20250919T150000Z
DTEND:20250920T040000Z
X-MICROSOFT-CDO-ALLDAYEVENT:FALSE
SUMMARY:Ribbon Cutting - Tonys Kitchen - Edinburg
DESCRIPTION:The Rio Grande Valley Hispanic Chamber of Commerce is thrilled to spotlight Tony's Kitchen in Edinburg\, TX! Join us for their Ribbon Cutting on Friday\, September 19\, 2025\, at 10:00 AM\, as we celebrate alongside the Edinburg Chamber of Commerce.\n\nStart your day right breakfast will be showcased during the event! Let's come together to support Tony's Kitchen and their commitment to serving delicious meals while strengthening our local community.\n\nFollow Tony's Kitchen on Facebook: https://www.facebook.com/profile.php?id=61579876684806
X-ALT-DESC;FMTTYPE=text/html:<p style="color: rgb(31\, 31\, 31)\; font-family: &quot\;Google Sans Text&quot\;\, &quot\;Google Sans&quot\;\, Helvetica\, Arial\, sans-serif\; font-size: 14px\; font-variant-ligatures: no-contextual\; background-color: rgb(233\, 238\, 246)\;">The Rio Grande Valley Hispanic Chamber of Commerce is thrilled to spotlight&nbsp\;<strong>Tony&rsquo\;s Kitchen</strong>&nbsp\;in Edinburg\, TX! Join us for their&nbsp\;<strong>Ribbon Cutting</strong>&nbsp\;on&nbsp\;<strong>Friday\, September 19\, 2025\, at 10:00 AM</strong>\, as we celebrate alongside the&nbsp\;<strong>Edinburg Chamber of Commerce</strong>.</p>\n\n<p style="color: rgb(31\, 31\, 31)\; font-family: &quot\;Google Sans Text&quot\;\, &quot\;Google Sans&quot\;\, Helvetica\, Arial\, sans-serif\; font-size: 14px\; font-variant-ligatures: no-contextual\; background-color: rgb(233\, 238\, 246)\;">Start your day right&mdash\;<strong>breakfast will be showcased</strong>&nbsp\;during the event! Let&rsquo\;s come together to support Tony&rsquo\;s Kitchen and their commitment to serving delicious meals while strengthening our local community.</p>\n\n<p style="color: rgb(31\, 31\, 31)\; font-family: &quot\;Google Sans Text&quot\;\, &quot\;Google Sans&quot\;\, Helvetica\, Arial\, sans-serif\; font-size: 14px\; font-variant-ligatures: no-contextual\; background-color: rgb(233\, 238\, 246)\;"><strong>Follow Tony&rsquo\;s Kitchen on Facebook:</strong>&nbsp\;<a href="https://www.google.com/url?q=https://www.facebook.com/profile.php?id%3D61579876684806%26utm_source%3Dchatgpt.com&amp\;sa=D&amp\;source=calendar&amp\;ust=1757858217520885&amp\;usg=AOvVaw0ZUBEDA4GWmSt7V4HBzpMN" style="color: rgb(11\, 87\, 208)\; cursor: auto\;" target="_blank">https://www.facebook.com/profile.php?id=61579876684806</a></p>\n
LOCATION:
UID:e.3411.1042
SEQUENCE:3
DTSTAMP:20260422T094101Z
URL:https://members.rgvhcc.org/events/details/ribbon-cutting-tonys-kitchen-edinburg-1042
END:VEVENT

END:VCALENDAR
