BEGIN:VCALENDAR
VERSION:2.0
PRODID:-//ChamberMaster//Event Calendar 2.0//EN
METHOD:PUBLISH
X-PUBLISHED-TTL:P3D
REFRESH-INTERVAL:P3D
CALSCALE:GREGORIAN
BEGIN:VEVENT
DTSTART:20250612T190000Z
DTEND:20250612T200000Z
X-MICROSOFT-CDO-ALLDAYEVENT:FALSE
SUMMARY:Ribbon Cutting - TOTAL CARE INSURANCE ADVOCATE GROUP LLC
DESCRIPTION:Join us in celebrating the Grand Opening of our Compadre\, Ana M. Herrera's new Total Care Insurance Advocate Group location in Pharr\, TX!
X-ALT-DESC;FMTTYPE=text/html:<div class="kvgmc6g5 cxmmr5t8 oygrvhab hcukyx3x c1et5uql" style="overflow-wrap: break-word\; margin: 0px\;">\n<p data-end="409" data-start="159" style=""><span style="color: rgb(31\, 31\, 31)\; font-family: &quot\;Google Sans Text&quot\;\, &quot\;Google Sans&quot\;\, Helvetica\, Arial\, sans-serif\; font-size: 14px\; background-color: rgb(233\, 238\, 246)\;">Join us in celebrating the Grand Opening of our Compadre\, Ana M. Herrera&rsquo\;s new Total Care Insurance Advocate Group location in Pharr\, TX!</span></p>\n</div>\n
LOCATION:200 E Expressway 83 suite 2\, Pharr\, TX 78577\, USA
UID:e.3411.989
SEQUENCE:3
DTSTAMP:20260422T161848Z
URL:https://members.rgvhcc.org/events/details/ribbon-cutting-total-care-insurance-advocate-group-llc-989
END:VEVENT

END:VCALENDAR
