BEGIN:VCALENDAR
VERSION:2.0
PRODID:-//ChamberMaster//Event Calendar 2.0//EN
METHOD:PUBLISH
X-PUBLISHED-TTL:P3D
REFRESH-INTERVAL:P3D
CALSCALE:GREGORIAN
BEGIN:VEVENT
DTSTART:20240725T150000Z
DTEND:20240725T170000Z
X-MICROSOFT-CDO-ALLDAYEVENT:FALSE
SUMMARY:Ribbon Cutting - VIDA Insurance Advisors
DESCRIPTION:We are delighted to invite you to join us for the Ribbon Cutting and Grand Opening Ceremony of VIDA Insurance Advisors. This exciting event marks the official launch of VIDA Insurance Advisors and we couldn't be more thrilled to share this special occasion with our esteemed members.\n\nWe are honored to celebrate this milestone with VIDA Insurance Advisors and look forward to your presence at this memorable event. Your support and participation are greatly appreciated as we welcome VIDA Insurance Advisors to our vibrant business community.\n\nJoin us as we celebrate growth\, innovation\, and the spirit of entrepreneurship. See you there!
X-ALT-DESC;FMTTYPE=text/html:<div class="kvgmc6g5 cxmmr5t8 oygrvhab hcukyx3x c1et5uql" style="overflow-wrap: break-word\; margin: 0px\; font-family: system-ui\, -apple-system\, &quot\;system-ui&quot\;\, &quot\;.SFNSText-Regular&quot\;\, sans-serif\; color: rgb(5\, 5\, 5)\; font-size: 15px\;">\n<p style="color: rgb(51\, 51\, 51)\; font-family: sans-serif\, Arial\, Verdana\, &quot\;Trebuchet MS&quot\;\; font-size: 13px\;">We are delighted to invite you to join us for the Ribbon Cutting and Grand Opening Ceremony of VIDA Insurance Advisors.&nbsp\;This exciting event marks the official launch of&nbsp\;VIDA Insurance Advisors&nbsp\;and we couldn&#39\;t be more thrilled to share this special occasion with our esteemed members.</p>\n\n<p style="color: rgb(51\, 51\, 51)\; font-family: sans-serif\, Arial\, Verdana\, &quot\;Trebuchet MS&quot\;\; font-size: 13px\;">We are honored to celebrate this milestone with&nbsp\;VIDA Insurance Advisors<span style="background-color: rgb(255\, 255\, 255)\;">&nbsp\;</span>and look forward to your presence at this memorable event. Your support and participation are greatly appreciated as we welcome&nbsp\;VIDA Insurance Advisors&nbsp\;to our vibrant business community.</p>\n\n<p style="color: rgb(51\, 51\, 51)\; font-family: sans-serif\, Arial\, Verdana\, &quot\;Trebuchet MS&quot\;\; font-size: 13px\;">Join us as we celebrate growth\, innovation\, and the spirit of entrepreneurship. See you there!</p>\n</div>\n
LOCATION:
UID:e.3411.794
SEQUENCE:3
DTSTAMP:20260423T235537Z
URL:https://members.rgvhcc.org/events/details/ribbon-cutting-vida-insurance-advisors-794
END:VEVENT

END:VCALENDAR
