BEGIN:VCALENDAR
VERSION:2.0
PRODID:-//ChamberMaster//Event Calendar 2.0//EN
METHOD:PUBLISH
X-PUBLISHED-TTL:P3D
REFRESH-INTERVAL:P3D
CALSCALE:GREGORIAN
BEGIN:VEVENT
DTSTART:20240628T203000Z
DTEND:20240628T230000Z
X-MICROSOFT-CDO-ALLDAYEVENT:FALSE
SUMMARY:Ribbon Cutting - Weslaco Children's Clinic
DESCRIPTION:
X-ALT-DESC;FMTTYPE=text/html:
LOCATION:Weslaco Children's Clinic
UID:e.3411.784
SEQUENCE:3
DTSTAMP:20260424T040819Z
URL:https://members.rgvhcc.org/events/details/ribbon-cutting-weslaco-children-s-clinic-784
END:VEVENT

END:VCALENDAR
