BEGIN:VCALENDAR
VERSION:2.0
PRODID:-//ChamberMaster//Event Calendar 2.0//EN
METHOD:PUBLISH
X-PUBLISHED-TTL:P3D
REFRESH-INTERVAL:P3D
CALSCALE:GREGORIAN
BEGIN:VEVENT
DTSTART:20251002T223000Z
DTEND:20251003T000000Z
X-MICROSOFT-CDO-ALLDAYEVENT:FALSE
SUMMARY:Rise Up Harlingen Business Pitch Competiton
DESCRIPTION:The Harlingen Economic Development Corporation and UTRGV community partners of the RGV Hispanic Chamber of Commerce invites you to the RISE Up Harlingen Pitch Competition on Wednesday\, October 1\, 2025\, at the Harlingen Convention Center. Finalists from the accelerator program will pitch their business ideas to a panel of judges for a chance to win $30\,000\, $20\,000\, and $15\,000 in grant awards. Don't miss this exciting showcase of Harlingen's next wave of entrepreneurs!
X-ALT-DESC;FMTTYPE=text/html:<span style="color: rgb(31\, 31\, 31)\; font-family: &quot\;Google Sans&quot\;\, Roboto\, Arial\, sans-serif\; font-size: 14px\; font-variant-ligatures: no-contextual\; white-space-collapse: preserve\; background-color: rgb(240\, 244\, 249)\;">The Harlingen Economic Development Corporation and UTRGV&mdash\;community partners of the RGV Hispanic Chamber of Commerce&mdash\;invites you to the </span><strong style="color: rgb(31\, 31\, 31)\; font-family: &quot\;Google Sans&quot\;\, Roboto\, Arial\, sans-serif\; font-size: 14px\; font-variant-ligatures: no-contextual\; white-space-collapse: preserve\; background-color: rgb(240\, 244\, 249)\;">RISE Up Harlingen Pitch Competition</strong><span style="color: rgb(31\, 31\, 31)\; font-family: &quot\;Google Sans&quot\;\, Roboto\, Arial\, sans-serif\; font-size: 14px\; font-variant-ligatures: no-contextual\; white-space-collapse: preserve\; background-color: rgb(240\, 244\, 249)\;"> on </span><strong style="color: rgb(31\, 31\, 31)\; font-family: &quot\;Google Sans&quot\;\, Roboto\, Arial\, sans-serif\; font-size: 14px\; font-variant-ligatures: no-contextual\; white-space-collapse: preserve\; background-color: rgb(240\, 244\, 249)\;">Wednesday\, October 1\, 2025\, at the Harlingen Convention Center</strong><span style="color: rgb(31\, 31\, 31)\; font-family: &quot\;Google Sans&quot\;\, Roboto\, Arial\, sans-serif\; font-size: 14px\; font-variant-ligatures: no-contextual\; white-space-collapse: preserve\; background-color: rgb(240\, 244\, 249)\;">. Finalists from the accelerator program will pitch their business ideas to a panel of judges for a chance to win </span><strong style="color: rgb(31\, 31\, 31)\; font-family: &quot\;Google Sans&quot\;\, Roboto\, Arial\, sans-serif\; font-size: 14px\; font-variant-ligatures: no-contextual\; white-space-collapse: preserve\; background-color: rgb(240\, 244\, 249)\;">$30\,000\, $20\,000\, and $15\,000 in grant awards</strong><span style="color: rgb(31\, 31\, 31)\; font-family: &quot\;Google Sans&quot\;\, Roboto\, Arial\, sans-serif\; font-size: 14px\; font-variant-ligatures: no-contextual\; white-space-collapse: preserve\; background-color: rgb(240\, 244\, 249)\;">. Don&rsquo\;t miss this exciting showcase of Harlingen&rsquo\;s next wave of entrepreneurs!&nbsp\;&nbsp\;</span>
LOCATION:
UID:e.3411.1055
SEQUENCE:3
DTSTAMP:20260422T080258Z
URL:https://members.rgvhcc.org/events/details/rise-up-harlingen-business-pitch-competiton-1055
END:VEVENT

END:VCALENDAR
