BEGIN:VCALENDAR
VERSION:2.0
PRODID:-//ChamberMaster//Event Calendar 2.0//EN
METHOD:PUBLISH
X-PUBLISHED-TTL:P3D
REFRESH-INTERVAL:P3D
CALSCALE:GREGORIAN
BEGIN:VEVENT
DTSTART:20240718T190000Z
DTEND:20240718T200000Z
X-MICROSOFT-CDO-ALLDAYEVENT:FALSE
SUMMARY:SBDC 11 Estrategias Para Una Empresa Exitosa
DESCRIPTION:Qu  se necesita para administrar un negocio exitoso?  Dirigir una empresa exitosa requiere planificaci n! Este seminario web cubre estrategias cr ticas para lanzar\, mantener y hacer crecer su negocio.\n\n\n\nEsta sesi n es recomendada para emprendedores emergentes o aquellos interesados   en mejorar su visi n para sus negocios.\n\n\n\nTemas a cubrir:\n\n-Planificaci n para cada etapa del desarrollo empresarial.\n\n-Desarrollando el equipo\n\n-Utilizando los estados financieros comerciales\n\n-Prepar ndose para el crecimiento empresarial\n\n\n\nEste seminario web es presentado por el UTRGV SBDC con el apoyo promocional de los socios de recursos participantes\, incluyendo: Brownsville Chamber of Commerce\; Consulate of Mexico in McAllen\; Edinburg Chamber of Commerce\; Greater Alton Chamber of Commerce\; Greater Pharr Chamber of Commerce\; Greater Mission Chamber of Commerce\; Harlingen Economic Development Corporation\; Palmview Chamber of Commerce\; Rio Grande City Economic Development Corporation\; Rio Grande City Greater Chamber of Commerce\; Rio Grande City Public Library\; Rio Grande Valley Hispanic Chamber of Commerce\; San Benito Chamber of Commerce\; South Padre Island Chamber of Commerce\; Starr County Industrial Foundation\; Weslaco Area Chamber of Commerce & Visitors Center.
X-ALT-DESC;FMTTYPE=text/html:<div class="x11i5rnm xat24cr x1mh8g0r x1vvkbs xtlvy1s" style="margin: 0.5em 0px 0px\; overflow-wrap: break-word\; font-family: system-ui\, -apple-system\, &quot\;system-ui&quot\;\, &quot\;.SFNSText-Regular&quot\;\, sans-serif\; color: rgb(5\, 5\, 5)\; font-size: 15px\; background-color: rgb(255\, 255\, 255)\;">\n<div class="x11i5rnm xat24cr x1mh8g0r x1vvkbs xtlvy1s" style="margin: 0.5em 0px 0px\; overflow-wrap: break-word\; font-family: system-ui\, -apple-system\, &quot\;system-ui&quot\;\, &quot\;.SFNSText-Regular&quot\;\, sans-serif\; color: rgb(5\, 5\, 5)\; font-size: 15px\; background-color: rgb(255\, 255\, 255)\;"><span style="color: rgb(35\, 35\, 51)\; font-family: &quot\;Helvetica Neue&quot\;\, Helvetica\, Arial\, sans-serif\; font-size: 14px\; white-space-collapse: preserve\; background-color: rgb(255\, 255\, 255)\;">&iquest\;Qu&eacute\; se necesita para administrar un negocio exitoso? &iexcl\;Dirigir una empresa exitosa requiere planificaci&oacute\;n! Este seminario web cubre estrategias cr&iacute\;ticas para lanzar\, mantener y hacer crecer su negocio.<br />\n<br />\nEsta sesi&oacute\;n es recomendada para emprendedores emergentes o aquellos interesados &#8203\;&#8203\;en mejorar su visi&oacute\;n para sus negocios.<br />\n<br />\nTemas a cubrir:<br />\n-Planificaci&oacute\;n para cada etapa del desarrollo empresarial.<br />\n-Desarrollando el equipo<br />\n-Utilizando los estados financieros comerciales<br />\n-Prepar&aacute\;ndose para el crecimiento empresarial<br />\n<br />\nEste seminario web es presentado por el UTRGV SBDC con el apoyo promocional de los socios de recursos participantes\, incluyendo: Brownsville Chamber of Commerce\; Consulate of Mexico in McAllen\; Edinburg Chamber of Commerce\; Greater Alton Chamber of Commerce\; Greater Pharr Chamber of Commerce\; Greater Mission Chamber of Commerce\; Harlingen Economic Development Corporation\; Palmview Chamber of Commerce\; Rio Grande City Economic Development Corporation\; Rio Grande City Greater Chamber of Commerce\; Rio Grande City Public Library\; Rio Grande Valley Hispanic Chamber of Commerce\; San Benito Chamber of Commerce\; South Padre Island Chamber of Commerce\; Starr County Industrial Foundation\; Weslaco Area Chamber of Commerce &amp\; Visitors Center.</span></div>\n</div>\n
LOCATION:WEBINAR REGISTRATION LINK: https://utrgv.zoom.us/webinar/register/1517177867981/WN_VoLbvJhlSLS07dxYSp6G1A#/registration Register at the link above. Deadline applies
UID:e.3411.789
SEQUENCE:3
DTSTAMP:20260423T221300Z
URL:https://members.rgvhcc.org/events/details/sbdc-11-estrategias-para-una-empresa-exitosa-789
END:VEVENT

END:VCALENDAR
