BEGIN:VCALENDAR
VERSION:2.0
PRODID:-//ChamberMaster//Event Calendar 2.0//EN
METHOD:PUBLISH
X-PUBLISHED-TTL:P3D
REFRESH-INTERVAL:P3D
CALSCALE:GREGORIAN
BEGIN:VEVENT
DTSTART:20240515T190000Z
DTEND:20240515T200000Z
X-MICROSOFT-CDO-ALLDAYEVENT:FALSE
SUMMARY:SBDC Art of Marketing
DESCRIPTION:What is marketing? Do you have a marketing plan for your business?\n\n\n\nThis session will help new and existing businesses with critical information to create or refresh their marketing goals and objectives.\n\n\n\nSession highlights:\n\n-Understanding the 7 Steps of the Marketing Process\n\n-Identifying Your Target Market\n\n-Determining Your Pricing Strategy\n\n-Creating Customer Awareness\n\n-And much more!\n\n\n\nThis webinar is presented by the UTRGV SBDC with promotional support from participating resource partners\, including the Brownsville Chamber of Commerce\; Consulate of Mexico in McAllen\; Edinburg Chamber of Commerce\; Greater Alton Chamber of Commerce\; Greater Pharr Chamber of Commerce\; Greater Mission Chamber of Commerce\; Harlingen Economic Development Corporation\; Hidalgo Economic Development Corporation\; Palmview Chamber of Commerce\; Rio Grande City Economic Development Corporation\; Rio Grande City Greater Chamber of Commerce\; Rio Grande City Public Library\; Rio Grande Valley Hispanic Chamber of Commerce\; San Benito Chamber of Commerce\; South Padre Island Chamber of Commerce\; Starr County Industrial Foundation\; Weslaco Area Chamber of Commerce & Visitors Center.
X-ALT-DESC;FMTTYPE=text/html:<div class="x11i5rnm xat24cr x1mh8g0r x1vvkbs xtlvy1s" style="margin: 0.5em 0px 0px\; overflow-wrap: break-word\; font-family: system-ui\, -apple-system\, &quot\;system-ui&quot\;\, &quot\;.SFNSText-Regular&quot\;\, sans-serif\; color: rgb(5\, 5\, 5)\; font-size: 15px\; background-color: rgb(255\, 255\, 255)\;">What is marketing? Do you have a marketing plan for your business?<br />\n<br />\nThis session will help new and existing businesses with critical information to create or refresh their marketing goals and objectives.<br />\n<br />\nSession highlights:<br />\n-Understanding the 7 Steps of the Marketing Process<br />\n-Identifying Your Target Market<br />\n-Determining Your Pricing Strategy<br />\n-Creating Customer Awareness<br />\n-And much more!<br />\n<br />\nThis webinar is presented by the UTRGV SBDC with promotional support from participating resource partners\, including the Brownsville Chamber of Commerce\; Consulate of Mexico in McAllen\; Edinburg Chamber of Commerce\; Greater Alton Chamber of Commerce\; Greater Pharr Chamber of Commerce\; Greater Mission Chamber of Commerce\; Harlingen Economic Development Corporation\; Hidalgo Economic Development Corporation\; Palmview Chamber of Commerce\; Rio Grande City Economic Development Corporation\; Rio Grande City Greater Chamber of Commerce\; Rio Grande City Public Library\; Rio Grande Valley Hispanic Chamber of Commerce\; San Benito Chamber of Commerce\; South Padre Island Chamber of Commerce\; Starr County Industrial Foundation\; Weslaco Area Chamber of Commerce &amp\; Visitors Center.</div>\n
LOCATION:WEBINAR REGISTRATION LINK: https://utrgv.zoom.us/.../31171.../WN_qDVexZZyTM6g93Z5qm7haQ
UID:e.3411.764
SEQUENCE:3
DTSTAMP:20260424T041736Z
URL:https://members.rgvhcc.org/events/details/sbdc-art-of-marketing-764
END:VEVENT

END:VCALENDAR
