BEGIN:VCALENDAR
VERSION:2.0
PRODID:-//ChamberMaster//Event Calendar 2.0//EN
METHOD:PUBLISH
X-PUBLISHED-TTL:P3D
REFRESH-INTERVAL:P3D
CALSCALE:GREGORIAN
BEGIN:VEVENT
DTSTART:20230720T150000Z
DTEND:20230720T170000Z
X-MICROSOFT-CDO-ALLDAYEVENT:FALSE
SUMMARY:SBDC Business Branding Strategies
DESCRIPTION:Do you have a brand strategy for your existing business?\n\nA brand strategy is a long-term plan on what you want your business to "say" about your products and services to new and existing customers!\n\nThis message\, also known as branding\, helps you engage and communicate with your customers more clearly. The more consistent and aligned your brand message is\, the more likely you are to attract and maintain loyal customers!\n\nThis webinar shares practical branding strategies for increased sales and discusses the impact a brand has on the value of a business.\n\nTopics discussed:\n\n-Protecting your brand\n\n-Brand messaging\n\n-Brand alignment\n\nThis webinar session is presented by Jaenie Longoria\, Global Business Consultant with Biz Media Firm.\n\nThis webinar is presented by the UTRGV SBDC in partnership with the BBVA Foundation and with promotional support from participating resource partners: Brownsville Chamber of Commerce\; Consulate of Mexico in McAllen\; Edinburg Chamber of Commerce\; Greater Alton Chamber of Commerce\; Greater Pharr Chamber of Commerce\; Greater Mission Chamber of Commerce\; Harlingen Economic Development Corporation\; Palmview Chamber of Commerce\; Rio Grande City Economic Development Corporation\; Rio Grande City Greater Chamber of Commerce\; Rio Grande City Public Library\; Rio Grande Valley Hispanic Chamber of Commerce\; San Benito Chamber of Commerce\; South Padre Island Chamber of Commerce\; Starr County Industrial Foundation\; Weslaco Area Chamber of Commerce & Visitors Center.\n\nRegister at link above. Deadline applies.
X-ALT-DESC;FMTTYPE=text/html:Do you have a brand strategy for your existing business?<br />\nA brand strategy is a long-term plan on what you want your business to &quot\;say&quot\; about your products and services to new and existing customers!<br />\nThis message\, also known as branding\, helps you engage and communicate with your customers more clearly. The more consistent and aligned your brand message is\, the more likely you are to attract and maintain loyal customers!<br />\nThis webinar shares practical branding strategies for increased sales and discusses the impact a brand has on the value of a business.<br />\nTopics discussed:<br />\n-Protecting your brand<br />\n-Brand messaging<br />\n-Brand alignment<br />\nThis webinar session is presented by Jaenie Longoria\, Global Business Consultant with Biz Media Firm.<br />\nThis webinar is presented by the UTRGV SBDC in partnership with the BBVA Foundation and with promotional support from participating resource partners: Brownsville Chamber of Commerce\; Consulate of Mexico in McAllen\; Edinburg Chamber of Commerce\; Greater Alton Chamber of Commerce\; Greater Pharr Chamber of Commerce\; Greater Mission Chamber of Commerce\; Harlingen Economic Development Corporation\; Palmview Chamber of Commerce\; Rio Grande City Economic Development Corporation\; Rio Grande City Greater Chamber of Commerce\; Rio Grande City Public Library\; Rio Grande Valley Hispanic Chamber of Commerce\; San Benito Chamber of Commerce\; South Padre Island Chamber of Commerce\; Starr County Industrial Foundation\; Weslaco Area Chamber of Commerce &amp\; Visitors Center.<br />\nRegister at link above. Deadline applies.
LOCATION:WEBINAR REGISTRATION LINK: https://utrgv.zoom.us/.../83168.../WN_YSt1BwNQRfekbCg29Qe6XQ
UID:e.3411.582
SEQUENCE:3
DTSTAMP:20260424T173618Z
URL:https://members.rgvhcc.org/events/details/sbdc-business-branding-strategies-582
END:VEVENT

END:VCALENDAR
