BEGIN:VCALENDAR
VERSION:2.0
PRODID:-//ChamberMaster//Event Calendar 2.0//EN
METHOD:PUBLISH
X-PUBLISHED-TTL:P3D
REFRESH-INTERVAL:P3D
CALSCALE:GREGORIAN
BEGIN:VEVENT
DTSTART:20231115T160000Z
DTEND:20231115T180000Z
X-MICROSOFT-CDO-ALLDAYEVENT:FALSE
SUMMARY:SBDC Customer Service Plus
DESCRIPTION:Is your small business ready to serve customers this holiday season?\n\nThis seminar is designed to give participants a better understanding of why customer service is so important to the success of a business!\n\nSession Highlights:\n\n-Meeting customer expectations & and satisfying customer needs\;\n\n-Delivering excellent customer service\; and\n\n-Becoming a powerful problem-solver.\n\nThis in-person session is presented by the UTRGV SBDC and co-hosted by the RGV Hispanic Chamber of Commerce.\n\nDeadline applies. Please see link above to register!
X-ALT-DESC;FMTTYPE=text/html:<div class="x11i5rnm xat24cr x1mh8g0r x1vvkbs xtlvy1s" style="margin: 0.5em 0px 0px\; overflow-wrap: break-word\; font-family: system-ui\, -apple-system\, &quot\;system-ui&quot\;\, &quot\;.SFNSText-Regular&quot\;\, sans-serif\; color: rgb(5\, 5\, 5)\; font-size: 15px\; background-color: rgb(255\, 255\, 255)\;">Is your small business ready to serve customers this holiday season?</div>\n\n<div class="x11i5rnm xat24cr x1mh8g0r x1vvkbs xtlvy1s" style="margin: 0.5em 0px 0px\; overflow-wrap: break-word\; font-family: system-ui\, -apple-system\, &quot\;system-ui&quot\;\, &quot\;.SFNSText-Regular&quot\;\, sans-serif\; color: rgb(5\, 5\, 5)\; font-size: 15px\; background-color: rgb(255\, 255\, 255)\;">This seminar is designed to give participants a better understanding of why customer service is so important to the success of a business!</div>\n\n<div class="x11i5rnm xat24cr x1mh8g0r x1vvkbs xtlvy1s" style="margin: 0.5em 0px 0px\; overflow-wrap: break-word\; font-family: system-ui\, -apple-system\, &quot\;system-ui&quot\;\, &quot\;.SFNSText-Regular&quot\;\, sans-serif\; color: rgb(5\, 5\, 5)\; font-size: 15px\; background-color: rgb(255\, 255\, 255)\;">Session Highlights:<br />\n-Meeting customer expectations &amp\; and satisfying customer needs\;<br />\n-Delivering excellent customer service\; and<br />\n-Becoming a powerful problem-solver.</div>\n\n<div class="x11i5rnm xat24cr x1mh8g0r x1vvkbs xtlvy1s" style="margin: 0.5em 0px 0px\; overflow-wrap: break-word\; font-family: system-ui\, -apple-system\, &quot\;system-ui&quot\;\, &quot\;.SFNSText-Regular&quot\;\, sans-serif\; color: rgb(5\, 5\, 5)\; font-size: 15px\; background-color: rgb(255\, 255\, 255)\;">This in-person session is presented by the UTRGV SBDC and co-hosted by the RGV Hispanic Chamber of Commerce.</div>\n\n<div class="x11i5rnm xat24cr x1mh8g0r x1vvkbs xtlvy1s" style="margin: 0.5em 0px 0px\; overflow-wrap: break-word\; font-family: system-ui\, -apple-system\, &quot\;system-ui&quot\;\, &quot\;.SFNSText-Regular&quot\;\, sans-serif\; color: rgb(5\, 5\, 5)\; font-size: 15px\; background-color: rgb(255\, 255\, 255)\;">Deadline applies. Please see link above to register!</div>\n
LOCATION:RGV Hispanic Chamber of Commerce | EBC at the District
UID:e.3411.668
SEQUENCE:3
DTSTAMP:20260424T122021Z
URL:https://members.rgvhcc.org/events/details/sbdc-customer-service-plus-668
END:VEVENT

END:VCALENDAR
