BEGIN:VCALENDAR
VERSION:2.0
PRODID:-//ChamberMaster//Event Calendar 2.0//EN
METHOD:PUBLISH
X-PUBLISHED-TTL:P3D
REFRESH-INTERVAL:P3D
CALSCALE:GREGORIAN
BEGIN:VEVENT
DTSTART:20240424T190000Z
DTEND:20240424T200000Z
X-MICROSOFT-CDO-ALLDAYEVENT:FALSE
SUMMARY:SBDC Customer Service Plus
DESCRIPTION:Is your small business ready to serve customers this summer?\n\n\n\nThis webinar - a condensed\, one-hour version of our regular session - is designed to give participants a better understanding of why customer service is so important to the success of a business!\n\n\n\nLearn tips on the following:\n\n\n\n-How to meet customer expectations and satisfy customer needs\;\n\n-How to deliver excellent customer service\; and\n\n-How to become a powerful problem-solver.\n\n\n\nThis webinar is presented by the UTRGV SBDC with promotional support from participating resource partners\, including the Brownsville Chamber of Commerce\; Consulate of Mexico in McAllen\; Edinburg Chamber of Commerce\; Greater Alton Chamber of Commerce\; Greater Pharr Chamber of Commerce\; Greater Mission Chamber of Commerce\; Harlingen Economic Development Corporation\; Hidalgo Economic Development Corporation\; Palmview Chamber of Commerce\; Rio Grande City Economic Development Corporation\; Rio Grande City Greater Chamber of Commerce\; Rio Grande City Public Library\; Rio Grande Valley Hispanic Chamber of Commerce\; San Benito Chamber of Commerce\; South Padre Island Chamber of Commerce\; Starr County Industrial Foundation\; Weslaco Area Chamber of Commerce & Visitors Center.
X-ALT-DESC;FMTTYPE=text/html:<div class="x11i5rnm xat24cr x1mh8g0r x1vvkbs xtlvy1s" style="margin: 0.5em 0px 0px\; overflow-wrap: break-word\; font-family: system-ui\, -apple-system\, &quot\;system-ui&quot\;\, &quot\;.SFNSText-Regular&quot\;\, sans-serif\; color: rgb(5\, 5\, 5)\; font-size: 15px\; background-color: rgb(255\, 255\, 255)\;">\n<div>&nbsp\;</div>\n\n<div>Is your small business ready to serve customers this summer?<br />\n<br />\nThis webinar - a condensed\, one-hour version of our regular session - is designed to give participants a better understanding of why customer service is so important to the success of a business!<br />\n<br />\nLearn tips on the following:<br />\n<br />\n-How to meet customer expectations and satisfy customer needs\;<br />\n-How to deliver excellent customer service\; and<br />\n-How to become a powerful problem-solver.<br />\n<br />\nThis webinar is presented by the UTRGV SBDC with promotional support from participating resource partners\, including the Brownsville Chamber of Commerce\; Consulate of Mexico in McAllen\; Edinburg Chamber of Commerce\; Greater Alton Chamber of Commerce\; Greater Pharr Chamber of Commerce\; Greater Mission Chamber of Commerce\; Harlingen Economic Development Corporation\; Hidalgo Economic Development Corporation\; Palmview Chamber of Commerce\; Rio Grande City Economic Development Corporation\; Rio Grande City Greater Chamber of Commerce\; Rio Grande City Public Library\; Rio Grande Valley Hispanic Chamber of Commerce\; San Benito Chamber of Commerce\; South Padre Island Chamber of Commerce\; Starr County Industrial Foundation\; Weslaco Area Chamber of Commerce &amp\; Visitors Center.</div>\n</div>\n
LOCATION:ZOOM WEBINAR
UID:e.3411.753
SEQUENCE:3
DTSTAMP:20260424T054220Z
URL:https://members.rgvhcc.org/events/details/sbdc-customer-service-plus-753
END:VEVENT

END:VCALENDAR
