BEGIN:VCALENDAR
VERSION:2.0
PRODID:-//ChamberMaster//Event Calendar 2.0//EN
METHOD:PUBLISH
X-PUBLISHED-TTL:P3D
REFRESH-INTERVAL:P3D
CALSCALE:GREGORIAN
BEGIN:VEVENT
DTSTART:20250702T190000Z
DTEND:20250702T200000Z
X-MICROSOFT-CDO-ALLDAYEVENT:FALSE
SUMMARY:SBDC - Cómo Iniciar un Negocio: Una Guía del SBDC para el Éxito
DESCRIPTION:Tiene una idea de negocio? \n\n Le interesa iniciar su propia empresa?\n\nEsta sesi n le proporcionar  la informaci n y los pasos fundamentales para comenzar su emprendimiento de manera estrat gica. Adem s\, le preparar  para una sesi n individual de asesor a empresarial\, donde podr  recibir orientaci n continua y personalizada para desarrollar su proyecto con  xito.\n\n \n*Presented by the UTRGV SBDC with promotional support from participating resource partners\, including the Alton Economic Development Corporation\; Brownsville Chamber of Commerce\; Consulate of Mexico in McAllen\; Economic Development Corporation of Weslaco\; Edinburg Chamber of Commerce\; Elsa Economic Development Corporation\; Greater Alton Chamber of Commerce\; Greater Pharr Chamber of Commerce\; Greater Mission Chamber of Commerce\; Harlingen Economic Development Corporation\; Hidalgo Economic Development Corporation\; Palmview Chamber of Commerce\; Rio Grande City Economic Development Corporation\; Rio Grande City Greater Chamber of Commerce\; Rio Grande City Public Library\; Rio Grande Valley Hispanic Chamber of Commerce\; San Benito Chamber of Commerce\; South Padre Island Chamber of Commerce\; Starr County Industrial Foundation\; and Weslaco Area Chamber of Commerce & Visitors Center.
X-ALT-DESC;FMTTYPE=text/html:<p style="box-sizing: inherit\; color: rgb(27\, 27\, 27)\; font-family: &quot\;Source Sans Pro Web&quot\;\, &quot\;Helvetica Neue&quot\;\, Helvetica\, Roboto\, Arial\, sans-serif\; font-size: 18.08px\;"><span style="font-size:14px\;">&iquest\;Tiene una idea de negocio?&nbsp\;</span></p>\n\n<p style="box-sizing: inherit\; color: rgb(27\, 27\, 27)\; font-family: &quot\;Source Sans Pro Web&quot\;\, &quot\;Helvetica Neue&quot\;\, Helvetica\, Roboto\, Arial\, sans-serif\; font-size: 18.08px\;"><span style="font-size:14px\;">&iquest\;Le interesa iniciar su propia empresa?</span></p>\n\n<p style="box-sizing: inherit\; color: rgb(27\, 27\, 27)\; font-family: &quot\;Source Sans Pro Web&quot\;\, &quot\;Helvetica Neue&quot\;\, Helvetica\, Roboto\, Arial\, sans-serif\; font-size: 18.08px\;"><span style="font-size:14px\;">Esta sesi&oacute\;n le proporcionar&aacute\; la informaci&oacute\;n y los pasos fundamentales para comenzar su emprendimiento de manera estrat&eacute\;gica. Adem&aacute\;s\, le preparar&aacute\; para una sesi&oacute\;n individual de asesor&iacute\;a empresarial\, donde podr&aacute\; recibir orientaci&oacute\;n continua y personalizada para desarrollar su proyecto con &eacute\;xito.</span><br />\n&nbsp\;</p>\n<span style="color: rgb(35\, 35\, 51)\; font-family: &quot\;Helvetica Neue&quot\;\, Helvetica\, Arial\, sans-serif\; font-size: 14px\; white-space-collapse: preserve\;">*Presented by the UTRGV SBDC with promotional support from participating resource partners\, including the Alton Economic Development Corporation\; Brownsville Chamber of Commerce\; Consulate of Mexico in McAllen\; Economic Development Corporation of Weslaco\; Edinburg Chamber of Commerce\; Elsa Economic Development Corporation\; Greater Alton Chamber of Commerce\; Greater Pharr Chamber of Commerce\; Greater Mission Chamber of Commerce\; Harlingen Economic Development Corporation\; Hidalgo Economic Development Corporation\; Palmview Chamber of Commerce\; Rio Grande City Economic Development Corporation\; Rio Grande City Greater Chamber of Commerce\; Rio Grande City Public Library\; Rio Grande Valley Hispanic Chamber of Commerce\; San Benito Chamber of Commerce\; South Padre Island Chamber of Commerce\; Starr County Industrial Foundation\; and Weslaco Area Chamber of Commerce &amp\; Visitors Center.</span>
LOCATION:
UID:e.3411.981
SEQUENCE:3
DTSTAMP:20260422T125605Z
URL:https://members.rgvhcc.org/events/details/sbdc-c&#243;mo-iniciar-un-negocio-una-gu&#237;a-del-sbdc-para-el-&#233;xito-981
END:VEVENT

END:VCALENDAR
