BEGIN:VCALENDAR
VERSION:2.0
PRODID:-//ChamberMaster//Event Calendar 2.0//EN
METHOD:PUBLISH
X-PUBLISHED-TTL:P3D
REFRESH-INTERVAL:P3D
CALSCALE:GREGORIAN
BEGIN:VEVENT
DTSTART:20230725T190000Z
DTEND:20230725T210000Z
X-MICROSOFT-CDO-ALLDAYEVENT:FALSE
SUMMARY:SBDC E-Commerce Roadmap: Getting Your Business Online
DESCRIPTION:Are you interested in launching an online business? Do you want to grow your existing business through online sales? This session will help you get started in electronic commerce!\n\n\n\nTopics covered include the following:\n\n-Overview of electronic commerce\n\n-Technical requirements for launching an e-commerce strategy or business\n\n-Review of e-commerce platforms & online marketplaces\n\n-Engagement in social selling\n\n\n\nThis webinar is presented by Digital Media Specialist Edward Lugo.\n\nThis webinar is presented by the UTRGV SBDC in partnership with the BBVA Foundation and with promotional support from participating resource partners: Brownsville Chamber of Commerce\; Consulate of Mexico in McAllen\; Edinburg Chamber of Commerce\; Greater Alton Chamber of Commerce\; Greater Pharr Chamber of Commerce\; Greater Mission Chamber of Commerce\; Harlingen Economic Development Corporation\; Palmview Chamber of Commerce\; Rio Grande City Economic Development Corporation\; Rio Grande City Greater Chamber of Commerce\; Rio Grande City Public Library\; Rio Grande Valley Hispanic Chamber of Commerce\; San Benito Chamber of Commerce\; South Padre Island Chamber of Commerce\; Starr County Industrial Foundation\; Weslaco Area Chamber of Commerce & Visitors Center.
X-ALT-DESC;FMTTYPE=text/html:Are you interested in launching an online business? Do you want to grow your existing business through online sales? This session will help you get started in electronic commerce!<br />\n<br />\nTopics covered include the following:<br />\n-Overview of electronic commerce<br />\n-Technical requirements for launching an e-commerce strategy or business<br />\n-Review of e-commerce platforms &amp\; online marketplaces<br />\n-Engagement in social selling<br />\n<br />\nThis webinar is presented by Digital Media Specialist Edward Lugo.<br />\nThis webinar is presented by the UTRGV SBDC in partnership with the BBVA Foundation and with promotional support from participating resource partners: Brownsville Chamber of Commerce\; Consulate of Mexico in McAllen\; Edinburg Chamber of Commerce\; Greater Alton Chamber of Commerce\; Greater Pharr Chamber of Commerce\; Greater Mission Chamber of Commerce\; Harlingen Economic Development Corporation\; Palmview Chamber of Commerce\; Rio Grande City Economic Development Corporation\; Rio Grande City Greater Chamber of Commerce\; Rio Grande City Public Library\; Rio Grande Valley Hispanic Chamber of Commerce\; San Benito Chamber of Commerce\; South Padre Island Chamber of Commerce\; Starr County Industrial Foundation\; Weslaco Area Chamber of Commerce &amp\; Visitors Center.
LOCATION:
UID:e.3411.583
SEQUENCE:3
DTSTAMP:20260424T183818Z
URL:https://members.rgvhcc.org/events/details/sbdc-e-commerce-roadmap-getting-your-business-online-583
END:VEVENT

END:VCALENDAR
