BEGIN:VCALENDAR
VERSION:2.0
PRODID:-//ChamberMaster//Event Calendar 2.0//EN
METHOD:PUBLISH
X-PUBLISHED-TTL:P3D
REFRESH-INTERVAL:P3D
CALSCALE:GREGORIAN
BEGIN:VEVENT
DTSTART:20240828T190000Z
DTEND:20240828T210000Z
X-MICROSOFT-CDO-ALLDAYEVENT:FALSE
SUMMARY:SBDC Introduction to Employee Handbooks
DESCRIPTION:This seminar is designed to assist small business owners and managers in effectively directing and communicating personnel policies through their employee handbooks. During this session\, we will review regulatory and judicial leanings regarding recordkeeping\, progressive discipline\, and workplace violence and harassment with the goal of establishing a handbook that is effective in managing these obligations as well as developing a unique company culture.\n\n\n\nIncluded in the training are:\n\n  Overview of Elements of an Employee Handbook\n\n  Determining what policies and procedures should be put in place and why\n\n  Legal considerations to keep in mind when writing policies and procedures\n\n  Implementing policies and procedures through orientation\, communication\, coaching\, and supervision\n\n\n\nThis webinar is presented by Deirdre Pattillo\, SPHR\, SHRM-SCP. (See bio below.) This webinar is hosted in partnership with the UTRGV APEX Accelerator and with promotional support from participating resource partners\, including the Brownsville Chamber of Commerce\; Consulate of Mexico in McAllen\; Edinburg Chamber of Commerce\; Greater Alton Chamber of Commerce\; Greater Pharr Chamber of Commerce\; Greater Mission Chamber of Commerce\; Harlingen Economic Development Corporation\; Hidalgo Economic Development Corporation\; Palmview Chamber of Commerce\; Rio Grande City Economic Development Corporation\; Rio Grande City Greater Chamber of Commerce\; Rio Grande City Public Library\; Rio Grande Valley Hispanic Chamber of Commerce\; San Benito Chamber of Commerce\; South Padre Island Chamber of Commerce\; Starr County Industrial Foundation\; Weslaco Area Chamber of Commerce & Visitors Center.
X-ALT-DESC;FMTTYPE=text/html:<span style="color: rgb(35\, 35\, 51)\; font-family: &quot\;Helvetica Neue&quot\;\, Helvetica\, Arial\, sans-serif\; font-size: 14px\; white-space-collapse: preserve\; background-color: rgb(255\, 255\, 255)\;">This seminar is designed to assist small business owners and managers in effectively directing and communicating personnel policies through their employee handbooks. During this session\, we will review regulatory and judicial leanings regarding recordkeeping\, progressive discipline\, and workplace violence and harassment with the goal of establishing a handbook that is effective in managing these obligations as well as developing a unique company culture.<br />\n<br />\nIncluded in the training are:<br />\n&bull\; Overview of Elements of an Employee Handbook<br />\n&bull\; Determining what policies and procedures should be put in place and why<br />\n&bull\; Legal considerations to keep in mind when writing policies and procedures<br />\n&bull\; Implementing policies and procedures through orientation\, communication\, coaching\, and supervision<br />\n<br />\nThis webinar is presented by Deirdre Pattillo\, SPHR\, SHRM-SCP. (See bio below.) This webinar is hosted in partnership with the UTRGV APEX Accelerator and with promotional support from participating resource partners\, including the Brownsville Chamber of Commerce\; Consulate of Mexico in McAllen\; Edinburg Chamber of Commerce\; Greater Alton Chamber of Commerce\; Greater Pharr Chamber of Commerce\; Greater Mission Chamber of Commerce\; Harlingen Economic Development Corporation\; Hidalgo Economic Development Corporation\; Palmview Chamber of Commerce\; Rio Grande City Economic Development Corporation\; Rio Grande City Greater Chamber of Commerce\; Rio Grande City Public Library\; Rio Grande Valley Hispanic Chamber of Commerce\; San Benito Chamber of Commerce\; South Padre Island Chamber of Commerce\; Starr County Industrial Foundation\; Weslaco Area Chamber of Commerce &amp\; Visitors Center.</span>
LOCATION:
UID:e.3411.803
SEQUENCE:3
DTSTAMP:20260423T221201Z
URL:https://members.rgvhcc.org/events/details/sbdc-introduction-to-employee-handbooks-803
END:VEVENT

END:VCALENDAR
