BEGIN:VCALENDAR
VERSION:2.0
PRODID:-//ChamberMaster//Event Calendar 2.0//EN
METHOD:PUBLISH
X-PUBLISHED-TTL:P3D
REFRESH-INTERVAL:P3D
CALSCALE:GREGORIAN
BEGIN:VEVENT
DTSTART:20251015T190000Z
DTEND:20251015T200000Z
X-MICROSOFT-CDO-ALLDAYEVENT:FALSE
SUMMARY:SBDC - Keeping Customers Happy: Holiday Edition (WEBINAR)
DESCRIPTION:Is your small business ready to serve customers this holiday season?  This session provides participants with a deeper understanding of why outstanding customer service is crucial for business success\, especially during the holiday season. \n\n\n\nTo learn more about strategies for meeting customer expectations and fulfilling their needs
X-ALT-DESC;FMTTYPE=text/html:<div class="x11i5rnm xat24cr x1mh8g0r x1vvkbs xtlvy1s" style="margin: 0.5em 0px 0px\; overflow-wrap: break-word\; font-family: &quot\;Segoe UI Historic&quot\;\, &quot\;Segoe UI&quot\;\, Helvetica\, Arial\, sans-serif\; color: rgb(5\, 5\, 5)\; font-size: 15px\;"><span style="font-family:arial\;"><span style="color: rgb(0\, 0\, 0)\; font-size: 14px\;">Is your small business ready to serve customers this holiday season?&nbsp\; This session provides participants with a deeper understanding of why outstanding customer service is crucial for business success\, especially during the holiday season.&nbsp\;</span><br style="box-sizing: border-box\; color: rgb(0\, 0\, 0)\; font-family: tahoma\; font-size: 14px\;" />\n<br style="box-sizing: border-box\; color: rgb(0\, 0\, 0)\; font-family: tahoma\; font-size: 14px\;" />\n<span style="color: rgb(0\, 0\, 0)\; font-size: 14px\;">To learn more about strategies for meeting customer expectations and fulfilling their needs</span></span></div>\n
LOCATION:
UID:e.3411.1058
SEQUENCE:3
DTSTAMP:20260422T080202Z
URL:https://members.rgvhcc.org/events/details/sbdc-keeping-customers-happy-holiday-edition-webinar-1058
END:VEVENT

END:VCALENDAR
