BEGIN:VCALENDAR
VERSION:2.0
PRODID:-//ChamberMaster//Event Calendar 2.0//EN
METHOD:PUBLISH
X-PUBLISHED-TTL:P3D
REFRESH-INTERVAL:P3D
CALSCALE:GREGORIAN
BEGIN:VEVENT
DTSTART:20250130T200000Z
DTEND:20250130T210000Z
X-MICROSOFT-CDO-ALLDAYEVENT:FALSE
SUMMARY:SBDC La Gestión de Marca para Pequeñas Empresas
DESCRIPTION:Por qu  es importante la marca para una nueva empresa?  Una marca exitosa inicia al comienzo de su trayectoria empresarial! \n\n\n\nAprenda a desarrollar una estructura que sea  nica para su empresa y reconocible para sus clientes. Cuando se desarrolla e implementa bien\, la marca hace que su empresa sea la primera en la mente de los clientes. Esta sesi n ense a a las nuevas empresas c mo desarrollar su marca.\n\n\n\nLos temas incluyen:\n\n- Qu  es una marca?\n\n- Cu l es la importancia de la marca?\n\n-Los tres principios de la marca\n\n-Pasos para el desarrollo de la marca\n\n-C mo proteger y mantener una marca exitosa\n\n\n\n*Presentado por el UTRGV SBDC con el apoyo promocional de los socios de recursos participantes\, incluyendo: Brownsville Chamber of Commerce\; Consulate of Mexico in McAllen\; Economic Development Corporation of Weslaco\; Edinburg Chamber of Commerce\; Elsa Economic Development Corporation\; Greater Alton Chamber of Commerce\; Greater Pharr Chamber of Commerce\; Greater Mission Chamber of Commerce\; Harlingen Economic Development Corporation\; Palmview Chamber of Commerce\; Rio Grande City Economic Development Corporation\; Rio Grande City Greater Chamber of Commerce\; Rio Grande City Public Library\; Rio Grande Valley Hispanic Chamber of Commerce\; San Benito Chamber of Commerce\; South Padre Island Chamber of Commerce\; Starr County Industrial Foundation\; Weslaco Area Chamber of Commerce & Visitors Center.
X-ALT-DESC;FMTTYPE=text/html:<div class="x11i5rnm xat24cr x1mh8g0r x1vvkbs xtlvy1s" style="margin: 0.5em 0px 0px\; overflow-wrap: break-word\; font-family: &quot\;Segoe UI Historic&quot\;\, &quot\;Segoe UI&quot\;\, Helvetica\, Arial\, sans-serif\; color: rgb(5\, 5\, 5)\; font-size: 15px\;">&iquest\;Por qu&eacute\; es importante la marca para una nueva empresa? &iexcl\;Una marca exitosa inicia al comienzo de su trayectoria empresarial!&nbsp\;<br />\n<br />\nAprenda a desarrollar una estructura que sea &uacute\;nica para su empresa y reconocible para sus clientes. Cuando se desarrolla e implementa bien\, la marca hace que su empresa sea la primera en la mente de los clientes. Esta sesi&oacute\;n ense&ntilde\;a a las nuevas empresas c&oacute\;mo desarrollar su marca.<br />\n<br />\nLos temas incluyen:<br />\n-&iquest\;Qu&eacute\; es una marca?<br />\n-&iquest\;Cu&aacute\;l es la importancia de la marca?<br />\n-Los tres principios de la marca<br />\n-Pasos para el desarrollo de la marca<br />\n-C&oacute\;mo proteger y mantener una marca exitosa<br />\n<br />\n*Presentado por el UTRGV SBDC con el apoyo promocional de los socios de recursos participantes\, incluyendo: Brownsville Chamber of Commerce\; Consulate of Mexico in McAllen\; Economic Development Corporation of Weslaco\; Edinburg Chamber of Commerce\; Elsa Economic Development Corporation\; Greater Alton Chamber of Commerce\; Greater Pharr Chamber of Commerce\; Greater Mission Chamber of Commerce\; Harlingen Economic Development Corporation\; Palmview Chamber of Commerce\; Rio Grande City Economic Development Corporation\; Rio Grande City Greater Chamber of Commerce\; Rio Grande City Public Library\; Rio Grande Valley Hispanic Chamber of Commerce\; San Benito Chamber of Commerce\; South Padre Island Chamber of Commerce\; Starr County Industrial Foundation\; Weslaco Area Chamber of Commerce &amp\; Visitors Center.</div>\n
LOCATION:WEBINAR REGISTRATION LINK: https://utrgv.zoom.us/webinar/register/8017303066101/WN_RWHSivnbT1Of5Lep6KB7og#/registration
UID:e.3411.881
SEQUENCE:3
DTSTAMP:20260422T233033Z
URL:https://members.rgvhcc.org/events/details/sbdc-la-gesti&#243;n-de-marca-para-peque&#241;as-empresas-881
END:VEVENT

END:VCALENDAR
