BEGIN:VCALENDAR
VERSION:2.0
PRODID:-//ChamberMaster//Event Calendar 2.0//EN
METHOD:PUBLISH
X-PUBLISHED-TTL:P3D
REFRESH-INTERVAL:P3D
CALSCALE:GREGORIAN
BEGIN:VEVENT
DTSTART:20250925T190000Z
DTEND:20250925T200000Z
X-MICROSOFT-CDO-ALLDAYEVENT:FALSE
SUMMARY:SBDC Pricing for Profit: A Simple Guide for Small Businesses
DESCRIPTION:Setting the right price is one of the most important decisions a small business can make but it doesn't have to be complicated. \n\nIn this practical and engaging session\, participants will learn how to price their products or services in a way that covers costs\, reflects value\, and supports long-term profitability.\n\nWhether you're just starting out or looking to refine your pricing strategy\, this session will give you the tools and confidence to price with purpose.\n\nSession highlights:\n\n\n	Calculate your break-even point to understand how many units you need to sell to cover costs.\n	Set prices that support your profit goals while remaining competitive and sustainable.\n	Avoid common pricing mistakes that can hurt your brand or bottom line.\n	Choose the right pricing strategy based on your costs\, market\, and customer value perception.
X-ALT-DESC;FMTTYPE=text/html:<p style="box-sizing: inherit\; color: rgb(27\, 27\, 27)\; font-family: &quot\;Source Sans Pro Web&quot\;\, &quot\;Helvetica Neue&quot\;\, Helvetica\, Roboto\, Arial\, sans-serif\; font-size: 18.08px\;"><span style="font-size:12px\;"><span style="font-family:arial\;">Setting the right price is one of the most important decisions a small business can make&mdash\;but it doesn&rsquo\;t have to be complicated.&nbsp\;</span></span></p>\n\n<p style="box-sizing: inherit\; color: rgb(27\, 27\, 27)\; font-family: &quot\;Source Sans Pro Web&quot\;\, &quot\;Helvetica Neue&quot\;\, Helvetica\, Roboto\, Arial\, sans-serif\; font-size: 18.08px\;"><span style="font-size:12px\;"><span style="font-family:arial\;">In this practical and engaging session\, participants will learn how to price their products or services in a way that covers costs\, reflects value\, and supports long-term profitability.</span></span></p>\n\n<p style="box-sizing: inherit\; color: rgb(27\, 27\, 27)\; font-family: &quot\;Source Sans Pro Web&quot\;\, &quot\;Helvetica Neue&quot\;\, Helvetica\, Roboto\, Arial\, sans-serif\; font-size: 18.08px\;"><span style="font-size:12px\;"><span style="font-family:arial\;">Whether you&#39\;re just starting out or looking to refine your pricing strategy\, this session will give you the tools and confidence to price with purpose.</span></span></p>\n\n<p style="box-sizing: inherit\; color: rgb(27\, 27\, 27)\; font-family: &quot\;Source Sans Pro Web&quot\;\, &quot\;Helvetica Neue&quot\;\, Helvetica\, Roboto\, Arial\, sans-serif\; font-size: 18.08px\;"><span style="font-size:12px\;"><span style="font-family:arial\;"><span style="box-sizing: inherit\; font-weight: bolder\;">Session highlights:</span></span></span></p>\n\n<ul style="box-sizing: inherit\; color: rgb(27\, 27\, 27)\; font-family: &quot\;Source Sans Pro Web&quot\;\, &quot\;Helvetica Neue&quot\;\, Helvetica\, Roboto\, Arial\, sans-serif\; font-size: 18.08px\;">\n	<li style="box-sizing: inherit\; font-size: 1.13rem\;"><span style="font-size:12px\;"><span style="font-family:arial\;"><span style="box-sizing: inherit\; font-weight: bolder\;">Calculate your break-even point</span>&nbsp\;to understand how many units you need to sell to cover costs.</span></span></li>\n	<li style="box-sizing: inherit\; font-size: 1.13rem\;"><span style="font-size:12px\;"><span style="font-family:arial\;"><span style="box-sizing: inherit\; font-weight: bolder\;">Set prices that support your profit goals</span>&nbsp\;while remaining competitive and sustainable.</span></span></li>\n	<li style="box-sizing: inherit\; font-size: 1.13rem\;"><span style="font-size:12px\;"><span style="font-family:arial\;"><span style="box-sizing: inherit\; font-weight: bolder\;">Avoid common pricing mistakes</span>&nbsp\;that can hurt your brand or bottom line.</span></span></li>\n	<li style="box-sizing: inherit\; font-size: 1.13rem\;"><span style="font-size:12px\;"><span style="font-family:arial\;"><span style="box-sizing: inherit\; font-weight: bolder\;">Choose the right pricing strategy</span>&nbsp\;based on your costs\, market\, and customer value perception.</span></span></li>\n</ul>\n\n<div class="register-form-info mgt-lg" data-v-d509169a="" style="box-sizing: border-box\; padding: 0px\; margin-right: 0px\; margin-bottom: 0px\; margin-left: 0px\; color: rgb(35\, 35\, 51)\; font-family: &quot\;Helvetica Neue&quot\;\, Helvetica\, Arial\, sans-serif\; font-size: 14px\; margin-top: 24px !important\;">\n<div data-v-5a893b82="" data-v-d509169a="" style="box-sizing: border-box\; padding: 0px\; margin: 0px\;">&nbsp\;</div>\n</div>\n
LOCATION:
UID:e.3411.1047
SEQUENCE:3
DTSTAMP:20260422T094052Z
URL:https://members.rgvhcc.org/events/details/sbdc-pricing-for-profit-a-simple-guide-for-small-businesses-1047
END:VEVENT

END:VCALENDAR
