BEGIN:VCALENDAR
VERSION:2.0
PRODID:-//ChamberMaster//Event Calendar 2.0//EN
METHOD:PUBLISH
X-PUBLISHED-TTL:P3D
REFRESH-INTERVAL:P3D
CALSCALE:GREGORIAN
BEGIN:VEVENT
DTSTART:20240821T160000Z
DTEND:20240821T170000Z
X-MICROSOFT-CDO-ALLDAYEVENT:FALSE
SUMMARY:SBDC Protecting your Small Business
DESCRIPTION:Legal issues can be challenging for small business owners!\n\n\n\nWhen starting and running a small business\, there are several legal requirements and best practices to consider. In this session\, Attorney Kristen L. Vela will cover information and tips to help navigate through these legal complexities.\n\n\n\nSession highlights:\n\n\n	Choosing a Business Structure\n	Obtaining Required Licensing\, Registration\, and Permits\n	Understanding Contracts and Agreements\n	Protecting Intellectual Property\n	Understanding Financial and Tax-Related Legal Requirements\n	Understanding and Complying with Industry Regulations\n	Complying with Employment Laws and Workplace Safety\n	Risk Awareness and Management\n	Acquiring Insurance Coverage\n	Seeking Legal Advice and Handling Legal Disputes\n\nPresented by: Kristen L. Vela\, Attorney - Ramon Worthington Nicolas & Cantu\, PLLC
X-ALT-DESC;FMTTYPE=text/html:<div style="color: rgb(32\, 33\, 36)\; font-family: Roboto\, Arial\, sans-serif\; font-size: 14.6667px\; white-space-collapse: preserve\; background-color: rgb(255\, 255\, 255)\;">\n<p style="margin-bottom: 0px\; color: rgb(32\, 33\, 36)\; font-family: Roboto\, Arial\, sans-serif\; font-size: 14.6667px\; white-space-collapse: preserve\; background-color: rgb(255\, 255\, 255)\;"><span style="font-size:12px\;"><b>Legal issues can be challenging for small business owners!</b><br />\n<br />\nWhen starting and running a small business\, there are several legal requirements and best practices to consider. In this session\, Attorney Kristen L. Vela will cover information and tips to help navigate through these legal complexities.<br />\n<br />\n<b>Session highlights:</b></span></p>\n\n<ul style="color: rgb(32\, 33\, 36)\; font-family: Roboto\, Arial\, sans-serif\; font-size: 14.6667px\; white-space-collapse: preserve\; background-color: rgb(255\, 255\, 255)\;">\n	<li><span style="font-size:12px\;">Choosing a Business Structure</span></li>\n	<li><span style="font-size:12px\;">Obtaining Required Licensing\, Registration\, and Permits</span></li>\n	<li><span style="font-size:12px\;">Understanding Contracts and Agreements</span></li>\n	<li><span style="font-size:12px\;">Protecting Intellectual Property</span></li>\n	<li><span style="font-size:12px\;">Understanding Financial and Tax-Related Legal Requirements</span></li>\n	<li><span style="font-size:12px\;">Understanding and Complying with Industry Regulations</span></li>\n	<li><span style="font-size:12px\;">Complying with Employment Laws and Workplace Safety</span></li>\n	<li><span style="font-size:12px\;">Risk Awareness and Management</span></li>\n	<li><span style="font-size:12px\;">Acquiring Insurance Coverage</span></li>\n	<li><span style="font-size:12px\;">Seeking Legal Advice and Handling Legal Disputes</span></li>\n</ul>\n<span style="font-size:12px\;"><b>Presented by</b>: Kristen L. Vela\, Attorney - Ramon Worthington Nicolas &amp\; Cantu\, PLLC</span></div>\n
LOCATION:https://forms.gle/vkXyZybkvF8LSg7j9 *This in-person session is cohosted by the UTRGV SBDC in partnership with the RGV Hispanic Chamber of Commerce
UID:e.3411.806
SEQUENCE:3
DTSTAMP:20260423T204003Z
URL:https://members.rgvhcc.org/events/details/sbdc-protecting-your-small-business-806
END:VEVENT

END:VCALENDAR
