BEGIN:VCALENDAR
VERSION:2.0
PRODID:-//ChamberMaster//Event Calendar 2.0//EN
METHOD:PUBLISH
X-PUBLISHED-TTL:P3D
REFRESH-INTERVAL:P3D
CALSCALE:GREGORIAN
BEGIN:VEVENT
DTSTART:20231128T160000Z
DTEND:20231128T180000Z
X-MICROSOFT-CDO-ALLDAYEVENT:FALSE
SUMMARY:SBDC Small Business Branding
DESCRIPTION:Why is branding important for a new business?\n\nSuccessful branding begins at the start of your business journey! Learn to develop a structure that is unique to your business and recognizable to your customer.\n\nSession Highlights:\n\n-What is a brand?\n\n-The importance of branding?\n\n-The three branding principles.\n\n-Steps to branding development.\n\n-Protecting and maintaining a successful brand.\n\nThis in-person session is presented by the UTRGV SBDC and hosted by the Rio Grande City Economic Development Corporation\, Rio Grande City Greater Chamber of Commerce\, Rio Grande City Public Library\, RGV Hispanic Chamber of Commerce\, and Starr County Industrial Foundation.\n\nDeadline applies. Please see link above to register.
X-ALT-DESC;FMTTYPE=text/html:<div class="x11i5rnm xat24cr x1mh8g0r x1vvkbs xtlvy1s" style="margin: 0.5em 0px 0px\; overflow-wrap: break-word\; font-family: system-ui\, -apple-system\, &quot\;system-ui&quot\;\, &quot\;.SFNSText-Regular&quot\;\, sans-serif\; color: rgb(5\, 5\, 5)\; font-size: 15px\; background-color: rgb(255\, 255\, 255)\;">Why is branding important for a new business?</div>\n\n<div class="x11i5rnm xat24cr x1mh8g0r x1vvkbs xtlvy1s" style="margin: 0.5em 0px 0px\; overflow-wrap: break-word\; font-family: system-ui\, -apple-system\, &quot\;system-ui&quot\;\, &quot\;.SFNSText-Regular&quot\;\, sans-serif\; color: rgb(5\, 5\, 5)\; font-size: 15px\; background-color: rgb(255\, 255\, 255)\;">Successful branding begins at the start of your business journey! Learn to develop a structure that is unique to your business and recognizable to your customer.</div>\n\n<div class="x11i5rnm xat24cr x1mh8g0r x1vvkbs xtlvy1s" style="margin: 0.5em 0px 0px\; overflow-wrap: break-word\; font-family: system-ui\, -apple-system\, &quot\;system-ui&quot\;\, &quot\;.SFNSText-Regular&quot\;\, sans-serif\; color: rgb(5\, 5\, 5)\; font-size: 15px\; background-color: rgb(255\, 255\, 255)\;">Session Highlights:<br />\n-What is a brand?<br />\n-The importance of branding?<br />\n-The three branding principles.<br />\n-Steps to branding development.<br />\n-Protecting and maintaining a successful brand.</div>\n\n<div class="x11i5rnm xat24cr x1mh8g0r x1vvkbs xtlvy1s" style="margin: 0.5em 0px 0px\; overflow-wrap: break-word\; font-family: system-ui\, -apple-system\, &quot\;system-ui&quot\;\, &quot\;.SFNSText-Regular&quot\;\, sans-serif\; color: rgb(5\, 5\, 5)\; font-size: 15px\; background-color: rgb(255\, 255\, 255)\;">This in-person session is presented by the UTRGV SBDC and hosted by the Rio Grande City Economic Development Corporation\, Rio Grande City Greater Chamber of Commerce\, Rio Grande City Public Library\, RGV Hispanic Chamber of Commerce\, and Starr County Industrial Foundation.</div>\n\n<div class="x11i5rnm xat24cr x1mh8g0r x1vvkbs xtlvy1s" style="margin: 0.5em 0px 0px\; overflow-wrap: break-word\; font-family: system-ui\, -apple-system\, &quot\;system-ui&quot\;\, &quot\;.SFNSText-Regular&quot\;\, sans-serif\; color: rgb(5\, 5\, 5)\; font-size: 15px\; background-color: rgb(255\, 255\, 255)\;">Deadline applies. Please see link above to register.</div>\n
LOCATION:UTRGV at Starr County Campus | Rio Grande City\, TX
UID:e.3411.670
SEQUENCE:3
DTSTAMP:20260424T122217Z
URL:https://members.rgvhcc.org/events/details/sbdc-small-business-branding-670
END:VEVENT

END:VCALENDAR
