BEGIN:VCALENDAR
VERSION:2.0
PRODID:-//ChamberMaster//Event Calendar 2.0//EN
METHOD:PUBLISH
X-PUBLISHED-TTL:P3D
REFRESH-INTERVAL:P3D
CALSCALE:GREGORIAN
BEGIN:VEVENT
DTSTART:20240522T150000Z
DTEND:20240522T170000Z
X-MICROSOFT-CDO-ALLDAYEVENT:FALSE
SUMMARY:SBDC Small Business Planning
DESCRIPTION:Why is branding important for a new business?\n\nSuccessful branding begins at the start of your business journey! Learn to develop a structure that is unique to your business and recognizable to your customer.\n\nSession Highlights:\n\n-What is a brand?\n\n-The importance of branding?\n\n-The three branding principles.\n\n-Steps to branding development.\n\n-Protecting and maintaining a successful brand.\n\n*This in-person session is presented by the UTRGV SBDC in partnership with the RGV Hispanic Chamber of Commerce.\n\nDeadline applies. Please see link above to register!
X-ALT-DESC;FMTTYPE=text/html:<div class="x11i5rnm xat24cr x1mh8g0r x1vvkbs xtlvy1s" style="margin: 0.5em 0px 0px\; overflow-wrap: break-word\; font-family: &quot\;Segoe UI Historic&quot\;\, &quot\;Segoe UI&quot\;\, Helvetica\, Arial\, sans-serif\; color: rgb(5\, 5\, 5)\; font-size: 15px\; background-color: rgb(255\, 255\, 255)\;">Why is branding important for a new business?</div>\n\n<div class="x11i5rnm xat24cr x1mh8g0r x1vvkbs xtlvy1s" style="margin: 0.5em 0px 0px\; overflow-wrap: break-word\; font-family: &quot\;Segoe UI Historic&quot\;\, &quot\;Segoe UI&quot\;\, Helvetica\, Arial\, sans-serif\; color: rgb(5\, 5\, 5)\; font-size: 15px\; background-color: rgb(255\, 255\, 255)\;">Successful branding begins at the start of your business journey! Learn to develop a structure that is unique to your business and recognizable to your customer.</div>\n\n<div class="x11i5rnm xat24cr x1mh8g0r x1vvkbs xtlvy1s" style="margin: 0.5em 0px 0px\; overflow-wrap: break-word\; font-family: &quot\;Segoe UI Historic&quot\;\, &quot\;Segoe UI&quot\;\, Helvetica\, Arial\, sans-serif\; color: rgb(5\, 5\, 5)\; font-size: 15px\; background-color: rgb(255\, 255\, 255)\;">Session Highlights:<br class="html-br" />\n-What is a brand?<br class="html-br" />\n-The importance of branding?<br class="html-br" />\n-The three branding principles.<br class="html-br" />\n-Steps to branding development.<br class="html-br" />\n-Protecting and maintaining a successful brand.</div>\n\n<div class="x11i5rnm xat24cr x1mh8g0r x1vvkbs xtlvy1s" style="margin: 0.5em 0px 0px\; overflow-wrap: break-word\; font-family: &quot\;Segoe UI Historic&quot\;\, &quot\;Segoe UI&quot\;\, Helvetica\, Arial\, sans-serif\; color: rgb(5\, 5\, 5)\; font-size: 15px\; background-color: rgb(255\, 255\, 255)\;">*This in-person session is presented by the UTRGV SBDC in partnership with the RGV Hispanic Chamber of Commerce.</div>\n\n<div class="x11i5rnm xat24cr x1mh8g0r x1vvkbs xtlvy1s" style="margin: 0.5em 0px 0px\; overflow-wrap: break-word\; font-family: &quot\;Segoe UI Historic&quot\;\, &quot\;Segoe UI&quot\;\, Helvetica\, Arial\, sans-serif\; color: rgb(5\, 5\, 5)\; font-size: 15px\; background-color: rgb(255\, 255\, 255)\;">Deadline applies. Please see link above to register!</div>\n
LOCATION:RGV Hispanic Chamber of Commerce | EBC at the District
UID:e.3411.766
SEQUENCE:3
DTSTAMP:20260424T041601Z
URL:https://members.rgvhcc.org/events/details/sbdc-small-business-planning-766
END:VEVENT

END:VCALENDAR
