BEGIN:VCALENDAR
VERSION:2.0
PRODID:-//ChamberMaster//Event Calendar 2.0//EN
METHOD:PUBLISH
X-PUBLISHED-TTL:P3D
REFRESH-INTERVAL:P3D
CALSCALE:GREGORIAN
BEGIN:VEVENT
DTSTART:20230920T190000Z
DTEND:20230920T210000Z
X-MICROSOFT-CDO-ALLDAYEVENT:FALSE
SUMMARY:SBDC Smart Start
DESCRIPTION:Do you have a business idea? Are you interested in starting your own business?\n\n\n\nThis session will provide you with the information and steps necessary for a smart start\, plus get you ready for your one-to-one\, business advisement session for ongoing assistance!
X-ALT-DESC;FMTTYPE=text/html:<span style="color: rgb(32\, 33\, 36)\; font-family: Roboto\, Arial\, sans-serif\; font-size: 14.6667px\; white-space-collapse: preserve\; background-color: rgb(255\, 255\, 255)\;">Do you have a business idea?&nbsp\;Are you interested in starting your own business?</span><br style="color: rgb(32\, 33\, 36)\; font-family: Roboto\, Arial\, sans-serif\; font-size: 14.6667px\; white-space-collapse: preserve\; background-color: rgb(255\, 255\, 255)\;" />\n<br style="color: rgb(32\, 33\, 36)\; font-family: Roboto\, Arial\, sans-serif\; font-size: 14.6667px\; white-space-collapse: preserve\; background-color: rgb(255\, 255\, 255)\;" />\n<span style="color: rgb(32\, 33\, 36)\; font-family: Roboto\, Arial\, sans-serif\; font-size: 14.6667px\; white-space-collapse: preserve\; background-color: rgb(255\, 255\, 255)\;">This session will provide you with the information and steps necessary for a smart start\, plus get you ready for your one-to-one\, business advisement session for ongoing assistance!</span>
LOCATION:UTRGV CESS Bldg | Rm 1.118 | 1407 E Freddy Gonzalez Dr | Edinburg\, TX *Presented by the UTRGV Small Business Development Center
UID:e.3411.626
SEQUENCE:3
DTSTAMP:20260424T151950Z
URL:https://members.rgvhcc.org/events/details/sbdc-smart-start-626
END:VEVENT

END:VCALENDAR
