BEGIN:VCALENDAR
VERSION:2.0
PRODID:-//ChamberMaster//Event Calendar 2.0//EN
METHOD:PUBLISH
X-PUBLISHED-TTL:P3D
REFRESH-INTERVAL:P3D
CALSCALE:GREGORIAN
BEGIN:VEVENT
DTSTART:20240411T190000Z
DTEND:20240411T200000Z
X-MICROSOFT-CDO-ALLDAYEVENT:FALSE
SUMMARY:SBDC Smart Start
DESCRIPTION:Do you have a business idea? Are you interested in starting your own business?\n\n\n\nThis webinar will provide you with the information and steps necessary for a smart start\, plus get you ready for your one-to-one\, business advisement session for ongoing assistance!\n\n \n\n\n\n\n\nThis webinar is presented by the UTRGV SBDC with promotional support from participating resource partners\, including the Brownsville Chamber of Commerce\; Consulate of Mexico in McAllen\; Edinburg Chamber of Commerce\; Greater Alton Chamber of Commerce\; Greater Pharr Chamber of Commerce\; Greater Mission Chamber of Commerce\; Harlingen Economic Development Corporation\; Hidalgo Economic Development Corporation\; Palmview Chamber of Commerce\; Rio Grande City Economic Development Corporation\; Rio Grande City Greater Chamber of Commerce\; Rio Grande City Public Library\; Rio Grande Valley Hispanic Chamber of Commerce\; San Benito Chamber of Commerce\; South Padre Island Chamber of Commerce\; Starr County Industrial Foundation\; Weslaco Area Chamber of Commerce & Visitors Center.
X-ALT-DESC;FMTTYPE=text/html:<span style="color: rgb(35\, 35\, 51)\; font-family: &quot\;Helvetica Neue&quot\;\, Helvetica\, Arial\, sans-serif\; font-size: 14px\; white-space-collapse: preserve\; background-color: rgb(255\, 255\, 255)\;">Do you have a business idea? Are you interested in starting your own business?<br />\n<br />\nThis webinar will provide you with the information and steps necessary for a smart start\, plus get you ready for your one-to-one\, business advisement session for ongoing assistance!</span><br />\n&nbsp\;\n<div class="register-form-info mgt-lg" data-v-d509169a="" style="box-sizing: border-box\; padding: 0px\; margin-right: 0px\; margin-bottom: 0px\; margin-left: 0px\; color: rgb(35\, 35\, 51)\; font-family: &quot\;Helvetica Neue&quot\;\, Helvetica\, Arial\, sans-serif\; font-size: 14px\; margin-top: 24px !important\;">\n<div class="content mgt-xl pdb-xl pdt-lg" data-v-d509169a="" style="box-sizing: border-box\; padding-top: 24px !important\; padding-right: 0px\; padding-bottom: 32px !important\; padding-left: 0px\; margin-top: 32px !important\; margin-right: 0px\; margin-bottom: 0px\; margin-left: 0px\; border-top: 1px solid rgb(237\, 237\, 244)\;">\n<div data-v-d509169a="" style="box-sizing: border-box\; padding: 0px\; margin: 0px\; display: flex\;">\n<div class="info" data-v-d509169a="" style="box-sizing: border-box\; padding: 0px 16px 0px 0px\; margin: 0px\; width: calc(100% - 120px)\;">\n<div class="mgb-md zm-row" data-v-d509169a="" style="box-sizing: border-box\; padding: 0px\; margin-top: 0px\; margin-right: 0px\; margin-bottom: 16px !important\; margin-left: 0px\; position: relative\;">\n<div class="pdl-xs w-sp zm-col zm-col-18" data-v-d509169a="" style="box-sizing: border-box\; padding-top: 0px\; padding-right: 0px\; padding-bottom: 0px\; margin: 0px\; float: left\; width: 376.5px\; white-space-collapse: preserve\; line-height: 24px\; padding-left: 4px !important\;">This webinar is presented by the UTRGV SBDC with promotional support from participating resource partners\, including the Brownsville Chamber of Commerce\; Consulate of Mexico in McAllen\; Edinburg Chamber of Commerce\; Greater Alton Chamber of Commerce\; Greater Pharr Chamber of Commerce\; Greater Mission Chamber of Commerce\; Harlingen Economic Development Corporation\; Hidalgo Economic Development Corporation\; Palmview Chamber of Commerce\; Rio Grande City Economic Development Corporation\; Rio Grande City Greater Chamber of Commerce\; Rio Grande City Public Library\; Rio Grande Valley Hispanic Chamber of Commerce\; San Benito Chamber of Commerce\; South Padre Island Chamber of Commerce\; Starr County Industrial Foundation\; Weslaco Area Chamber of Commerce &amp\; Visitors Center.</div>\n</div>\n</div>\n</div>\n</div>\n</div>\n
LOCATION:ZOOM WEBINAR
UID:e.3411.751
SEQUENCE:3
DTSTAMP:20260424T064921Z
URL:https://members.rgvhcc.org/events/details/sbdc-smart-start-751
END:VEVENT

END:VCALENDAR
