BEGIN:VCALENDAR
VERSION:2.0
PRODID:-//ChamberMaster//Event Calendar 2.0//EN
METHOD:PUBLISH
X-PUBLISHED-TTL:P3D
REFRESH-INTERVAL:P3D
CALSCALE:GREGORIAN
BEGIN:VEVENT
DTSTART:20240509T190000Z
DTEND:20240509T200000Z
X-MICROSOFT-CDO-ALLDAYEVENT:FALSE
SUMMARY:SBDC Smart Start
DESCRIPTION:Do you have a business idea? Are you interested in starting your own business?\n\n\n\nThis webinar will provide you with the information and steps necessary for a smart start\, plus get you ready for your one-to-one\, business advisement session for ongoing assistance!\n\n\n\nThis webinar is presented by the UTRGV SBDC with promotional support from participating resource partners\, including the Brownsville Chamber of Commerce\; Consulate of Mexico in McAllen\; Edinburg Chamber of Commerce\; Greater Alton Chamber of Commerce\; Greater Pharr Chamber of Commerce\; Greater Mission Chamber of Commerce\; Harlingen Economic Development Corporation\; Hidalgo Economic Development Corporation\; Palmview Chamber of Commerce\; Rio Grande City Economic Development Corporation\; Rio Grande City Greater Chamber of Commerce\; Rio Grande City Public Library\; Rio Grande Valley Hispanic Chamber of Commerce\; San Benito Chamber of Commerce\; South Padre Island Chamber of Commerce\; Starr County Industrial Foundation\; Weslaco Area Chamber of Commerce & Visitors Center.\n\n\n\n* this class counts as a pre-requisite to the Small Business Academy Starting July 9th\, 2024
X-ALT-DESC;FMTTYPE=text/html:Do you have a business idea? Are you interested in starting your own business?<br />\n<br />\nThis webinar will provide you with the information and steps necessary for a smart start\, plus get you ready for your one-to-one\, business advisement session for ongoing assistance!<br />\n<br />\nThis webinar is presented by the UTRGV SBDC with promotional support from participating resource partners\, including the Brownsville Chamber of Commerce\; Consulate of Mexico in McAllen\; Edinburg Chamber of Commerce\; Greater Alton Chamber of Commerce\; Greater Pharr Chamber of Commerce\; Greater Mission Chamber of Commerce\; Harlingen Economic Development Corporation\; Hidalgo Economic Development Corporation\; Palmview Chamber of Commerce\; Rio Grande City Economic Development Corporation\; Rio Grande City Greater Chamber of Commerce\; Rio Grande City Public Library\; Rio Grande Valley Hispanic Chamber of Commerce\; San Benito Chamber of Commerce\; South Padre Island Chamber of Commerce\; Starr County Industrial Foundation\; Weslaco Area Chamber of Commerce &amp\; Visitors Center.<br />\n<br />\n<span style="color:#FF0000\;"><em><strong>* this class counts as a pre-requisite to the Small Business Academy Starting July 9th\, 2024</strong></em></span>
LOCATION:WEBINAR REGISTRATION LINK: https://utrgv.zoom.us/.../90171.../WN_-afL3G_NTdaenOEttZxsOQ
UID:e.3411.763
SEQUENCE:3
DTSTAMP:20260424T041421Z
URL:https://members.rgvhcc.org/events/details/sbdc-smart-start-763
END:VEVENT

END:VCALENDAR
