BEGIN:VCALENDAR
VERSION:2.0
PRODID:-//ChamberMaster//Event Calendar 2.0//EN
METHOD:PUBLISH
X-PUBLISHED-TTL:P3D
REFRESH-INTERVAL:P3D
CALSCALE:GREGORIAN
BEGIN:VEVENT
DTSTART:20250109T200000Z
DTEND:20250109T210000Z
X-MICROSOFT-CDO-ALLDAYEVENT:FALSE
SUMMARY:SBDC Smart Start
DESCRIPTION:Do you have a business idea? Are you interested in starting your own business?\n\nThis webinar will provide you with the information and steps necessary for a smart start\, plus get you ready for your one-to-one\, business advisement session for ongoing assistance!\n\n\n\n\n\n\n\n*Presented by the UTRGV SBDC with promotional support from participating resource partners\, including the Brownsville Chamber of Commerce\; Consulate of Mexico in McAllen\; Economic Development Corporation of Weslaco\; Edinburg Chamber of Commerce\; Elsa Economic Development Corporation\; Greater Alton Chamber of Commerce\; Greater Pharr Chamber of Commerce\; Greater Mission Chamber of Commerce\; Harlingen Economic Development Corporation\; Hidalgo Economic Development Corporation\; Palmview Chamber of Commerce\; Rio Grande City Economic Development Corporation\; Rio Grande City Greater Chamber of Commerce\; Rio Grande City Public Library\; Rio Grande Valley Hispanic Chamber of Commerce\; San Benito Chamber of Commerce\; South Padre Island Chamber of Commerce\; Starr County Industrial Foundation\; and Weslaco Area Chamber of Commerce & Visitors Center.\n\n \n\n\n\n\n\n \n\nDeadline applies. See link above to register.
X-ALT-DESC;FMTTYPE=text/html:<div class="x11i5rnm xat24cr x1mh8g0r x1vvkbs xtlvy1s" style="margin: 0.5em 0px 0px\; overflow-wrap: break-word\; font-family: &quot\;Segoe UI Historic&quot\;\, &quot\;Segoe UI&quot\;\, Helvetica\, Arial\, sans-serif\; color: rgb(5\, 5\, 5)\; font-size: 15px\;">Do you have a business idea? Are you interested in starting your own business?</div>\n\n<div class="x11i5rnm xat24cr x1mh8g0r x1vvkbs xtlvy1s" style="margin: 0.5em 0px 0px\; overflow-wrap: break-word\; font-family: &quot\;Segoe UI Historic&quot\;\, &quot\;Segoe UI&quot\;\, Helvetica\, Arial\, sans-serif\; color: rgb(5\, 5\, 5)\; font-size: 15px\;">This webinar will provide you with the information and steps necessary for a smart start\, plus get you ready for your one-to-one\, business advisement session for ongoing assistance!</div>\n\n<div class="x11i5rnm xat24cr x1mh8g0r x1vvkbs xtlvy1s" style="margin: 0.5em 0px 0px\; overflow-wrap: break-word\; font-family: &quot\;Segoe UI Historic&quot\;\, &quot\;Segoe UI&quot\;\, Helvetica\, Arial\, sans-serif\; color: rgb(5\, 5\, 5)\; font-size: 15px\;">\n<div class="register-form-info mgt-lg" data-v-d509169a="" style="box-sizing: border-box\; padding: 0px\; margin-right: 0px\; margin-bottom: 0px\; margin-left: 0px\; color: rgb(35\, 35\, 51)\; font-family: &quot\;Helvetica Neue&quot\;\, Helvetica\, Arial\, sans-serif\; font-size: 14px\; margin-top: 24px !important\;">\n<div class="content mgt-xl pdb-xl pdt-lg" data-v-d509169a="" style="box-sizing: border-box\; padding-top: 24px !important\; padding-right: 0px\; padding-bottom: 32px !important\; padding-left: 0px\; margin-top: 32px !important\; margin-right: 0px\; margin-bottom: 0px\; margin-left: 0px\; border-top: 1px solid rgb(237\, 237\, 244)\;">\n<div data-v-d509169a="" style="box-sizing: border-box\; padding: 0px\; margin: 0px\; display: flex\;">\n<div class="info" data-v-d509169a="" style="box-sizing: border-box\; padding: 0px 16px 0px 0px\; margin: 0px\; width: calc(100% - 120px)\;">\n<div class="mgb-md zm-row" data-v-d509169a="" style="box-sizing: border-box\; padding: 0px\; margin-top: 0px\; margin-right: 0px\; margin-bottom: 16px !important\; margin-left: 0px\; position: relative\;">\n<div class="pdl-xs w-sp zm-col zm-col-18" data-v-d509169a="" style="box-sizing: border-box\; padding-top: 0px\; padding-right: 0px\; padding-bottom: 0px\; margin: 0px\; float: left\; width: 376.8px\; white-space-collapse: preserve\; line-height: 24px\; padding-left: 4px !important\;"><span style="color: rgb(35\, 35\, 51)\; font-family: &quot\;Helvetica Neue&quot\;\, Helvetica\, Arial\, sans-serif\; font-size: 14px\; white-space-collapse: preserve\; background-color: rgb(255\, 255\, 255)\;">*Presented by the UTRGV SBDC with promotional support from participating resource partners\, including the Brownsville Chamber of Commerce\; Consulate of Mexico in McAllen\; Economic Development Corporation of Weslaco\; Edinburg Chamber of Commerce\; Elsa Economic Development Corporation\; Greater Alton Chamber of Commerce\; Greater Pharr Chamber of Commerce\; Greater Mission Chamber of Commerce\; Harlingen Economic Development Corporation\; Hidalgo Economic Development Corporation\; Palmview Chamber of Commerce\; Rio Grande City Economic Development Corporation\; Rio Grande City Greater Chamber of Commerce\; Rio Grande City Public Library\; Rio Grande Valley Hispanic Chamber of Commerce\; San Benito Chamber of Commerce\; South Padre Island Chamber of Commerce\; Starr County Industrial Foundation\; and Weslaco Area Chamber of Commerce &amp\; Visitors Center.</span></div>\n\n<div>&nbsp\;</div>\n</div>\n</div>\n</div>\n</div>\n\n<div data-v-5a893b82="" data-v-d509169a="" style="box-sizing: border-box\; padding: 0px\; margin: 0px\;">&nbsp\;</div>\n</div>\nDeadline applies. See link above to register.</div>\n<br />\n&nbsp\;
LOCATION:WEBINAR REGISTRATION LINK: https://utrgv.zoom.us/webinar/register/1017303033124/WN_rRJ84yNcTiWMADNh9MiiUg#/registration
UID:e.3411.879
SEQUENCE:3
DTSTAMP:20260422T231955Z
URL:https://members.rgvhcc.org/events/details/sbdc-smart-start-879
END:VEVENT

END:VCALENDAR
