BEGIN:VCALENDAR
VERSION:2.0
PRODID:-//ChamberMaster//Event Calendar 2.0//EN
METHOD:PUBLISH
X-PUBLISHED-TTL:P3D
REFRESH-INTERVAL:P3D
CALSCALE:GREGORIAN
BEGIN:VEVENT
DTSTART:20250206T200000Z
DTEND:20250206T210000Z
X-MICROSOFT-CDO-ALLDAYEVENT:FALSE
SUMMARY:SBDC Smart Start
DESCRIPTION:Do you have a business idea?\n\n\n\nAre you interested in starting your own business? This webinar will provide you with the information and steps necessary for a smart start\, plus get you ready for your one-to-one\, business advisement session for ongoing assistance!\n\n\n\n*Presented by the UTRGV SBDC with promotional support from participating resource partners\, including the Brownsville Chamber of Commerce\; Consulate of Mexico in McAllen\; Economic Development Corporation of Weslaco\; Edinburg Chamber of Commerce\; Elsa Economic Development Corporation\; Greater Alton Chamber of Commerce\; Greater Pharr Chamber of Commerce\; Greater Mission Chamber of Commerce\; Harlingen Economic Development Corporation\; Hidalgo Economic Development Corporation\; Palmview Chamber of Commerce\; Rio Grande City Economic Development Corporation\; Rio Grande City Greater Chamber of Commerce\; Rio Grande City Public Library\; Rio Grande Valley Hispanic Chamber of Commerce\; San Benito Chamber of Commerce\; South Padre Island Chamber of Commerce\; Starr County Industrial Foundation\; and Weslaco Area Chamber of Commerce & Visitors Center.
X-ALT-DESC;FMTTYPE=text/html:<div class="x11i5rnm xat24cr x1mh8g0r x1vvkbs xtlvy1s" style="margin: 0.5em 0px 0px\; overflow-wrap: break-word\; font-family: &quot\;Segoe UI Historic&quot\;\, &quot\;Segoe UI&quot\;\, Helvetica\, Arial\, sans-serif\; color: rgb(5\, 5\, 5)\; font-size: 15px\;"><span style="color: rgb(35\, 35\, 51)\; font-family: &quot\;Helvetica Neue&quot\;\, Helvetica\, Arial\, sans-serif\; font-size: 14px\; white-space-collapse: preserve\; background-color: rgb(255\, 255\, 255)\;">Do you have a business idea?<br />\n<br />\nAre you interested in starting your own business? This webinar will provide you with the information and steps necessary for a smart start\, plus get you ready for your one-to-one\, business advisement session for ongoing assistance!<br />\n<br />\n*Presented by the UTRGV SBDC with promotional support from participating resource partners\, including the Brownsville Chamber of Commerce\; Consulate of Mexico in McAllen\; Economic Development Corporation of Weslaco\; Edinburg Chamber of Commerce\; Elsa Economic Development Corporation\; Greater Alton Chamber of Commerce\; Greater Pharr Chamber of Commerce\; Greater Mission Chamber of Commerce\; Harlingen Economic Development Corporation\; Hidalgo Economic Development Corporation\; Palmview Chamber of Commerce\; Rio Grande City Economic Development Corporation\; Rio Grande City Greater Chamber of Commerce\; Rio Grande City Public Library\; Rio Grande Valley Hispanic Chamber of Commerce\; San Benito Chamber of Commerce\; South Padre Island Chamber of Commerce\; Starr County Industrial Foundation\; and Weslaco Area Chamber of Commerce &amp\; Visitors Center.</span></div>\n<br />\n&nbsp\;
LOCATION:WEBINAR REGISTRATION LINK: https://utrgv.zoom.us/webinar/register/1917381733953/WN_Y64ePhetQJ6RU4c9A5vxKQ#/registration
UID:e.3411.916
SEQUENCE:3
DTSTAMP:20260422T212609Z
URL:https://members.rgvhcc.org/events/details/sbdc-smart-start-916
END:VEVENT

END:VCALENDAR
