BEGIN:VCALENDAR
VERSION:2.0
PRODID:-//ChamberMaster//Event Calendar 2.0//EN
METHOD:PUBLISH
X-PUBLISHED-TTL:P3D
REFRESH-INTERVAL:P3D
CALSCALE:GREGORIAN
BEGIN:VEVENT
DTSTART:20240221T160000Z
DTEND:20240221T180000Z
X-MICROSOFT-CDO-ALLDAYEVENT:FALSE
SUMMARY:SBDC The HR Process Seminar
DESCRIPTION:The HR Process covers the appropriate steps to take when planning for human resources in a small business\, including what each step entails and its importance.\n\n*This in-person session is presented by the UTRGV SBDC and co-hosted by the RGV Hispanic Chamber of Commerce.
X-ALT-DESC;FMTTYPE=text/html:<div class="x11i5rnm xat24cr x1mh8g0r x1vvkbs xtlvy1s" style="margin: 0.5em 0px 0px\; overflow-wrap: break-word\; font-family: system-ui\, -apple-system\, &quot\;system-ui&quot\;\, &quot\;.SFNSText-Regular&quot\;\, sans-serif\; color: rgb(5\, 5\, 5)\; font-size: 15px\; background-color: rgb(255\, 255\, 255)\;">The HR Process covers the appropriate steps to take when planning for human resources in a small business\, including what each step entails and its importance.</div>\n\n<div class="x11i5rnm xat24cr x1mh8g0r x1vvkbs xtlvy1s" style="margin: 0.5em 0px 0px\; overflow-wrap: break-word\; font-family: system-ui\, -apple-system\, &quot\;system-ui&quot\;\, &quot\;.SFNSText-Regular&quot\;\, sans-serif\; color: rgb(5\, 5\, 5)\; font-size: 15px\; background-color: rgb(255\, 255\, 255)\;">*This in-person session is presented by the UTRGV SBDC and co-hosted by the RGV Hispanic Chamber of Commerce.</div>\n
LOCATION:RGV Hispanic Chamber of Commerce
UID:e.3411.711
SEQUENCE:3
DTSTAMP:20260424T092510Z
URL:https://members.rgvhcc.org/events/details/sbdc-the-hr-process-seminar-711
END:VEVENT

END:VCALENDAR
