BEGIN:VCALENDAR
VERSION:2.0
PRODID:-//ChamberMaster//Event Calendar 2.0//EN
METHOD:PUBLISH
X-PUBLISHED-TTL:P3D
REFRESH-INTERVAL:P3D
CALSCALE:GREGORIAN
BEGIN:VEVENT
DTSTART:20240626T150000Z
DTEND:20240626T170000Z
X-MICROSOFT-CDO-ALLDAYEVENT:FALSE
SUMMARY:SBDC Using Social Media to Boost Sales
DESCRIPTION:Are you using social media for your small business? Does this include social selling?\n\nIn addition to connecting with existing customers and drawing in new ones\, small businesses can increase their sales using social media platforms!\n\nCustomers are already online\, including yours! Capitalize on your existing customer relationships and generate new leads to boost sales for your small business. In this session\, learn about various social media platforms and how to get started with new or additional platforms\, including information and tips on shipping and handling and customer service.\n\n*Recommended for existing businesses.\n\nWebinar highlights:\n\n-What is social selling & how can it help boost sales?\n\n-Types of social media selling platforms\n\n-Selecting the best platforms for your small business\n\n-Easy guide to getting started\n\n-Features and steps to getting started on popular platforms\n\n-Shipping & Handling\n\n-Customer Service\n\nThis webinar is presented by Digital Media Specialist and Educator Edward Lugo.\n\nThis webinar is hosted by the UTRGV SBDC and the BBVA Foundation with promotional support from participating resource partners\, including the Brownsville Chamber of Commerce\; Consulate of Mexico in McAllen\; Edinburg Chamber of Commerce\; Greater Alton Chamber of Commerce\; Greater Pharr Chamber of Commerce\; Greater Mission Chamber of Commerce\; Harlingen Economic Development Corporation\; Hidalgo Economic Development Corporation\; Palmview Chamber of Commerce\; Rio Grande City Economic Development Corporation\; Rio Grande City Greater Chamber of Commerce\; Rio Grande City Public Library\; Rio Grande Valley Hispanic Chamber of Commerce\; San Benito Chamber of Commerce\; South Padre Island Chamber of Commerce\; Starr County Industrial Foundation\; Weslaco Area Chamber of Commerce & Visitors Center.\n\nRegister at link above. Deadline applies
X-ALT-DESC;FMTTYPE=text/html:<div class="x11i5rnm xat24cr x1mh8g0r x1vvkbs xtlvy1s" style="margin: 0.5em 0px 0px\; overflow-wrap: break-word\; font-family: &quot\;Segoe UI Historic&quot\;\, &quot\;Segoe UI&quot\;\, Helvetica\, Arial\, sans-serif\; color: rgb(5\, 5\, 5)\; font-size: 15px\; background-color: rgb(255\, 255\, 255)\;">Are you using social media for your small business? Does this include social selling?</div>\n\n<div class="x11i5rnm xat24cr x1mh8g0r x1vvkbs xtlvy1s" style="margin: 0.5em 0px 0px\; overflow-wrap: break-word\; font-family: &quot\;Segoe UI Historic&quot\;\, &quot\;Segoe UI&quot\;\, Helvetica\, Arial\, sans-serif\; color: rgb(5\, 5\, 5)\; font-size: 15px\; background-color: rgb(255\, 255\, 255)\;">In addition to connecting with existing customers and drawing in new ones\, small businesses can increase their sales using social media platforms!</div>\n\n<div class="x11i5rnm xat24cr x1mh8g0r x1vvkbs xtlvy1s" style="margin: 0.5em 0px 0px\; overflow-wrap: break-word\; font-family: &quot\;Segoe UI Historic&quot\;\, &quot\;Segoe UI&quot\;\, Helvetica\, Arial\, sans-serif\; color: rgb(5\, 5\, 5)\; font-size: 15px\; background-color: rgb(255\, 255\, 255)\;">Customers are already online\, including yours! Capitalize on your existing customer relationships and generate new leads to boost sales for your small business. In this session\, learn about various social media platforms and how to get started with new or additional platforms\, including information and tips on shipping and handling and customer service.</div>\n\n<div class="x11i5rnm xat24cr x1mh8g0r x1vvkbs xtlvy1s" style="margin: 0.5em 0px 0px\; overflow-wrap: break-word\; font-family: &quot\;Segoe UI Historic&quot\;\, &quot\;Segoe UI&quot\;\, Helvetica\, Arial\, sans-serif\; color: rgb(5\, 5\, 5)\; font-size: 15px\; background-color: rgb(255\, 255\, 255)\;">*Recommended for existing businesses.</div>\n\n<div class="x11i5rnm xat24cr x1mh8g0r x1vvkbs xtlvy1s" style="margin: 0.5em 0px 0px\; overflow-wrap: break-word\; font-family: &quot\;Segoe UI Historic&quot\;\, &quot\;Segoe UI&quot\;\, Helvetica\, Arial\, sans-serif\; color: rgb(5\, 5\, 5)\; font-size: 15px\; background-color: rgb(255\, 255\, 255)\;">Webinar highlights:<br class="html-br" />\n-What is social selling &amp\; how can it help boost sales?<br class="html-br" />\n-Types of social media selling platforms<br class="html-br" />\n-Selecting the best platforms for your small business<br class="html-br" />\n-Easy guide to getting started<br class="html-br" />\n-Features and steps to getting started on popular platforms<br class="html-br" />\n-Shipping &amp\; Handling<br class="html-br" />\n-Customer Service</div>\n\n<div class="x11i5rnm xat24cr x1mh8g0r x1vvkbs xtlvy1s" style="margin: 0.5em 0px 0px\; overflow-wrap: break-word\; font-family: &quot\;Segoe UI Historic&quot\;\, &quot\;Segoe UI&quot\;\, Helvetica\, Arial\, sans-serif\; color: rgb(5\, 5\, 5)\; font-size: 15px\; background-color: rgb(255\, 255\, 255)\;">This webinar is presented by Digital Media Specialist and Educator Edward Lugo.</div>\n\n<div class="x11i5rnm xat24cr x1mh8g0r x1vvkbs xtlvy1s" style="margin: 0.5em 0px 0px\; overflow-wrap: break-word\; font-family: &quot\;Segoe UI Historic&quot\;\, &quot\;Segoe UI&quot\;\, Helvetica\, Arial\, sans-serif\; color: rgb(5\, 5\, 5)\; font-size: 15px\; background-color: rgb(255\, 255\, 255)\;">This webinar is hosted by the UTRGV SBDC and the BBVA Foundation with promotional support from participating resource partners\, including the Brownsville Chamber of Commerce\; Consulate of Mexico in McAllen\; Edinburg Chamber of Commerce\; Greater Alton Chamber of Commerce\; Greater Pharr Chamber of Commerce\; Greater Mission Chamber of Commerce\; Harlingen Economic Development Corporation\; Hidalgo Economic Development Corporation\; Palmview Chamber of Commerce\; Rio Grande City Economic Development Corporation\; Rio Grande City Greater Chamber of Commerce\; Rio Grande City Public Library\; Rio Grande Valley Hispanic Chamber of Commerce\; San Benito Chamber of Commerce\; South Padre Island Chamber of Commerce\; Starr County Industrial Foundation\; Weslaco Area Chamber of Commerce &amp\; Visitors Center.</div>\n\n<div class="x11i5rnm xat24cr x1mh8g0r x1vvkbs xtlvy1s" style="margin: 0.5em 0px 0px\; overflow-wrap: break-word\; font-family: &quot\;Segoe UI Historic&quot\;\, &quot\;Segoe UI&quot\;\, Helvetica\, Arial\, sans-serif\; color: rgb(5\, 5\, 5)\; font-size: 15px\; background-color: rgb(255\, 255\, 255)\;">Register at link above. Deadline applies</div>\n
LOCATION:WEBINAR LINK: https://utrgv.zoom.us/webinar/register/1117157156462/WN_Cq0c0AKkSb-hGPSFbIy1iw?fbclid=IwZXh0bgNhZW0CMTAAAR24xCVpG5o8xWdZZZjyCfPPwPs73TCdycWxbLzfQt8J9szoHvuKxm_FSig_aem_AY88INOTTotaEo6m104fw4YnfzAl-VU4820eWtPPkBWbQpU4G41hV_kL0eVqUGgIB9WsSZfvg20FD9y6EB55x42x#/registration
UID:e.3411.780
SEQUENCE:3
DTSTAMP:20260424T024915Z
URL:https://members.rgvhcc.org/events/details/sbdc-using-social-media-to-boost-sales-780
END:VEVENT

END:VCALENDAR
