BEGIN:VCALENDAR
VERSION:2.0
PRODID:-//ChamberMaster//Event Calendar 2.0//EN
METHOD:PUBLISH
X-PUBLISHED-TTL:P3D
REFRESH-INTERVAL:P3D
CALSCALE:GREGORIAN
BEGIN:VEVENT
DTSTART:20230627T180000Z
DTEND:20230627T190000Z
X-MICROSOFT-CDO-ALLDAYEVENT:FALSE
SUMMARY:Secrets to Dominating ANY Networking Event
DESCRIPTION:Gain the skills to make lasting connections & leave a lasting impression. Elevate your professional presence & unlock a world of networking success
X-ALT-DESC;FMTTYPE=text/html:Gain the skills to make lasting connections &amp\; leave a lasting impression. Elevate your professional presence &amp\; unlock a world of networking success
LOCATION:
UID:e.3411.563
SEQUENCE:3
DTSTAMP:20260424T200012Z
URL:https://members.rgvhcc.org/events/details/secrets-to-dominating-any-networking-event-563
END:VEVENT

END:VCALENDAR
