BEGIN:VCALENDAR
VERSION:2.0
PRODID:-//ChamberMaster//Event Calendar 2.0//EN
METHOD:PUBLISH
X-PUBLISHED-TTL:P3D
REFRESH-INTERVAL:P3D
CALSCALE:GREGORIAN
BEGIN:VEVENT
DTSTART:20250911T223000Z
DTEND:20250912T003000Z
X-MICROSOFT-CDO-ALLDAYEVENT:FALSE
SUMMARY:Selfies & More's Connect\, Collaborate\, Succeed - Networking
DESCRIPTION:Join us for an engaging evening of connection\, collaboration\, and community! Selfies and More invites local professionals\, entrepreneurs\, and creatives to our Business Networking Event.\n\n  What to Expect:\n\n\n	\n	A vibrant market to explore local vendors and products\n	\n	\n	Opportunities to meet and connect with fellow business owners\n	\n	\n	Share your services\, ideas\, and collaborations\n	\n	\n	Don't forget to bring your business cards!
X-ALT-DESC;FMTTYPE=text/html:<p data-end="308" data-start="113">Join us for an engaging evening of connection\, collaboration\, and community! <strong data-end="210" data-start="190">Selfies and More</strong> invites local professionals\, entrepreneurs\, and creatives to our <strong data-end="305" data-start="276">Business Networking Event</strong>.</p>\n\n<p data-end="333" data-start="310">&#10024\; <strong data-end="331" data-start="312">What to Expect:</strong></p>\n\n<ul data-end="556" data-start="334">\n	<li data-end="392" data-start="334">\n	<p data-end="392" data-start="336">A vibrant market to explore local vendors and products</p>\n	</li>\n	<li data-end="458" data-start="393">\n	<p data-end="458" data-start="395">Opportunities to meet and connect with fellow business owners</p>\n	</li>\n	<li data-end="509" data-start="459">\n	<p data-end="509" data-start="461">Share your services\, ideas\, and collaborations</p>\n	</li>\n	<li data-end="556" data-start="510">\n	<p data-end="556" data-start="512">Don&rsquo\;t forget to bring your business cards!</p>\n	</li>\n</ul>\n
LOCATION:
UID:e.3411.1046
SEQUENCE:3
DTSTAMP:20260422T093758Z
URL:https://members.rgvhcc.org/events/details/selfies-more-s-connect-collaborate-succeed-networking-1046
END:VEVENT

END:VCALENDAR
